BEGIN:VCALENDAR
VERSION:2.0
PRODID:-//Carnegie Carnival - ECPv6.2.9//NONSGML v1.0//EN
CALSCALE:GREGORIAN
METHOD:PUBLISH
X-ORIGINAL-URL:https://carnegiecarnival.org
X-WR-CALDESC:Events for Carnegie Carnival
REFRESH-INTERVAL;VALUE=DURATION:PT1H
X-Robots-Tag:noindex
X-PUBLISHED-TTL:PT1H
BEGIN:VTIMEZONE
TZID:America/Chicago
BEGIN:DAYLIGHT
TZOFFSETFROM:-0600
TZOFFSETTO:-0500
TZNAME:CDT
DTSTART:20230312T080000
END:DAYLIGHT
BEGIN:STANDARD
TZOFFSETFROM:-0500
TZOFFSETTO:-0600
TZNAME:CST
DTSTART:20231105T070000
END:STANDARD
END:VTIMEZONE
BEGIN:VEVENT
DTSTART;TZID=America/Chicago:20230213T190000
DTEND;TZID=America/Chicago:20230213T210000
DTSTAMP:20260419T132428
CREATED:20230110T023618Z
LAST-MODIFIED:20230110T023618Z
UID:4517-1676314800-1676322000@carnegiecarnival.org
SUMMARY:Kiya McRae: Paint Me Royal
DESCRIPTION:Join us for a Galentines Girls Night Out\, Royal Edition\, on Monday February 13th from 7pm to 9pm\, at the Carnegie Visual Art Center in Decatur AL.\nYou will need to presubmit a clear picture of yourself\, for us to transfer your likeness to the canvas and have ready for you to paint and embellish a 3D Royal Portrait!\n\nEvent will be $40/person. Limited spots available\, reserve your spot by submitting payment through Venmo or PayPal @kiyaforcarnegiequeen. Ticket includes one canvas\, paint/supplies\, and small bites. There will be a cash bar available.\nYou MUST presubmit your picture by email to kiyaforcarnegiequeen@gmail.com \, no later than January 31st.
URL:https://carnegiecarnival.org/event/kiya-mcrae-paint-me-royal/
LOCATION:Carnegie Visual Arts Center\, 207 Church Street\, NE\, Decatur\, AL\, 35601\, United States
ATTACH;FMTTYPE=image/jpeg:https://carnegiecarnival.org/wp-content/uploads/2018/01/event_tn_queen.jpg
GEO:34.6116295;-86.9820525
X-APPLE-STRUCTURED-LOCATION;VALUE=URI;X-ADDRESS=Carnegie Visual Arts Center 207 Church Street NE Decatur AL 35601 United States;X-APPLE-RADIUS=500;X-TITLE=207 Church Street\, NE:geo:-86.9820525,34.6116295
END:VEVENT
END:VCALENDAR