BEGIN:VCALENDAR
VERSION:2.0
PRODID:-//Carnegie Carnival - ECPv6.2.9//NONSGML v1.0//EN
CALSCALE:GREGORIAN
METHOD:PUBLISH
X-WR-CALNAME:Carnegie Carnival
X-ORIGINAL-URL:https://carnegiecarnival.org
X-WR-CALDESC:Events for Carnegie Carnival
REFRESH-INTERVAL;VALUE=DURATION:PT1H
X-Robots-Tag:noindex
X-PUBLISHED-TTL:PT1H
BEGIN:VTIMEZONE
TZID:America/Chicago
BEGIN:DAYLIGHT
TZOFFSETFROM:-0600
TZOFFSETTO:-0500
TZNAME:CDT
DTSTART:20230312T080000
END:DAYLIGHT
BEGIN:STANDARD
TZOFFSETFROM:-0500
TZOFFSETTO:-0600
TZNAME:CST
DTSTART:20231105T070000
END:STANDARD
END:VTIMEZONE
BEGIN:VEVENT
DTSTART;TZID=America/Chicago:20230206T190000
DTEND;TZID=America/Chicago:20230206T210000
DTSTAMP:20260419T115302
CREATED:20230123T180849Z
LAST-MODIFIED:20230123T180849Z
UID:4572-1675710000-1675717200@carnegiecarnival.org
SUMMARY:Juan Penuelas: Paint Party
DESCRIPTION:Paint Party with The Juan for king!\nCome join The Juan for a night of painting with Amber Moody Stuart! $40 includes 1 canvas and all supplies.\nReserve your spot for a fun Mardi Gras Abstract Painting! Limited spots available. Cash bar available!\nSample painting will be posted soon!\nVenmo- @Juan-Penuelas-2\nPayPal- @RobynDean378\nCaption “paint party”
URL:https://carnegiecarnival.org/event/juan-penuelas-paint-party/
LOCATION:Carnegie Visual Arts Center\, 207 Church Street\, NE\, Decatur\, AL\, 35601\, United States
ATTACH;FMTTYPE=image/jpeg:https://carnegiecarnival.org/wp-content/uploads/2018/01/event_tn_king.jpg
GEO:34.6116295;-86.9820525
X-APPLE-STRUCTURED-LOCATION;VALUE=URI;X-ADDRESS=Carnegie Visual Arts Center 207 Church Street NE Decatur AL 35601 United States;X-APPLE-RADIUS=500;X-TITLE=207 Church Street\, NE:geo:-86.9820525,34.6116295
END:VEVENT
BEGIN:VEVENT
DTSTART;TZID=America/Chicago:20230207T183000
DTEND;TZID=America/Chicago:20230207T220000
DTSTAMP:20260419T115302
CREATED:20230121T214401Z
LAST-MODIFIED:20230121T214433Z
UID:4566-1675794600-1675807200@carnegiecarnival.org
SUMMARY:Melissa Parker: Pool Tournament
DESCRIPTION:21 and up with ID to enter.\nAPA rules:\n9 ball races to 3 winners.\n1st Place $100\n2nd Place $75\n3rd Place $50\n2 loser finals 5.\n$50 to the final winner of the loser bracket.
URL:https://carnegiecarnival.org/event/melissa-parker-pool-tournament/
LOCATION:Six Pockets\, 1819 Basset Avenue SE\, Decatur\, AL\, 35601\, United States
ATTACH;FMTTYPE=image/jpeg:https://carnegiecarnival.org/wp-content/uploads/2018/01/event_tn_queen.jpg
END:VEVENT
BEGIN:VEVENT
DTSTART;TZID=America/Chicago:20230208T173000
DTEND;TZID=America/Chicago:20230208T210000
DTSTAMP:20260419T115302
CREATED:20230121T213557Z
LAST-MODIFIED:20230121T213557Z
UID:4405-1675877400-1675890000@carnegiecarnival.org
SUMMARY:Kadie Long: Bourbon and Cigar Event
DESCRIPTION:Join us for a wonderful night of bourbon tasting\, cigars and heavy hors-d’oeuvres by Decatur’s iconic Chef\, Victor Melonas! You will have an opportunity to donate money in a live auction for bottles of bourbon as well as donate for many wonderful raffles! All donations will go directly to Kadie Longs Queen Candidacy for the Carnegie Visual Arts Center
URL:https://carnegiecarnival.org/event/kadie-long-bourbon-and-cigar-event/
LOCATION:113 Club\, 113 Grant St SE\, Decatur\, AL\, 35601\, United States
ATTACH;FMTTYPE=image/jpeg:https://carnegiecarnival.org/wp-content/uploads/2018/01/event_tn_queen.jpg
END:VEVENT
BEGIN:VEVENT
DTSTART;TZID=America/Chicago:20230209T180000
DTEND;TZID=America/Chicago:20230209T210000
DTSTAMP:20260419T115302
CREATED:20230110T023944Z
LAST-MODIFIED:20230110T023944Z
UID:4519-1675965600-1675976400@carnegiecarnival.org
SUMMARY:Kiya McRae: Royal Bowling Tournament
DESCRIPTION:Join us for a Royal Bowling Tournament on Thursday\, February 9th at AMF River City Lanes! We are bowling for bucks\, with the highest scoring team receiving a $500 cash prize!\nNot a pro? No worries\, there will be other prizes and giveaways that night! We will have prizes for Best Team Name\, Best Dressed Team\, Best Team Attitude\, etc!\nRegistration is $100 per team\, each team made up of 4 individuals. Lanes are limited\, reserve your spot by submitting payment and your team name through Venmo or PayPal @kiyaforcarnegiequeen. Registration includes 3 (three) games and shoe rental for 4 team members. Email kiyaforcarnegiequeen@gmail.com if you have any questions!\n$80/team will be going towards the fundraiser\, so please share and tell your friends and family to support this fun event!
URL:https://carnegiecarnival.org/event/kiya-mcrae-royal-bowling-tournament/
LOCATION:AMF River City Lanes\, 3117 Highway 31 S\, Decatur\, AL\, 35601\, United States
ATTACH;FMTTYPE=image/jpeg:https://carnegiecarnival.org/wp-content/uploads/2018/01/event_tn_queen.jpg
END:VEVENT
BEGIN:VEVENT
DTSTART;TZID=America/Chicago:20230209T183000
DTEND;TZID=America/Chicago:20230209T213000
DTSTAMP:20260419T115302
CREATED:20230116T215937Z
LAST-MODIFIED:20230116T215937Z
UID:4554-1675967400-1675978200@carnegiecarnival.org
SUMMARY:Philip Wright: Decatur Crime Tour
DESCRIPTION:Bootleggers\, bloodletters\, and brothels! Old Decatur was once a hotbed of illegal activity\, vice\, and murder. Grab a drink special at Simp’s (or not\, your choice!) and follow your host Johnny Four Eyes as he takes you on a tour of the neighborhood’s notorious past. I guarantee you will hear stories you have never heard before! We may even run into some of the past’s colorful characters! Afterward if you wish join us for dinner specials at Simp’s and check out unique raffle items that benefit Philip Wright’s campaign for Carnegie King! Purchase tickets on line using the PayPal link below and write “CRIME” in the notes. Message Philip’s Facebook page for more information. TICKETS ARE JUST $10! COME ONE\, COME ALL!
URL:https://carnegiecarnival.org/event/philip-wright-decatur-crime-tour/
LOCATION:Simp McGhee’s\, 725 Bank St.\, Decatur\, AL\, 35601\, United States
ATTACH;FMTTYPE=image/jpeg:https://carnegiecarnival.org/wp-content/uploads/2018/01/event_tn_king.jpg
END:VEVENT
BEGIN:VEVENT
DTSTART;TZID=America/Chicago:20230210T190000
DTEND;TZID=America/Chicago:20230210T210000
DTSTAMP:20260419T115302
CREATED:20230201T035029Z
LAST-MODIFIED:20230201T035029Z
UID:4600-1676055600-1676062800@carnegiecarnival.org
SUMMARY:Kadie Long: Galentines Girls Night
DESCRIPTION:What more could you want in a girls night? $40/ person – Includes half a dozen cookies that we will decorate together\, charcuterie\, and special raffle items available for donations!
URL:https://carnegiecarnival.org/event/galentinesgirlsnight/
LOCATION:Decatur\, AL\, 35601\, United States
ATTACH;FMTTYPE=image/jpeg:https://carnegiecarnival.org/wp-content/uploads/2018/01/event_tn_queen.jpg
END:VEVENT
BEGIN:VEVENT
DTSTART;TZID=America/Chicago:20230210T190000
DTEND;TZID=America/Chicago:20230210T220000
DTSTAMP:20260419T115302
CREATED:20230121T220526Z
LAST-MODIFIED:20230121T220526Z
UID:4569-1676055600-1676066400@carnegiecarnival.org
SUMMARY:Melissa Parker: Roaring Twenties Speakeasy
DESCRIPTION:This is destined to be the event of the season for a reason! Drinks\, gaming\, dancing and more. You would not believe the excitement about this night or the prizes to be won.\nScan the code on the cover photo to purchase your tickets:\nAdmission is $50 per ticket or $85 per couple.\nYOU MUST LEAVE A VALID CELL NUMBER WHEN YOU PURCHASE YOUR TICKETS. YOUR PASSWORD WILL BE DELIVERED DAY OF THE EVENT AND THE LOCATION WILL BE REVEALED.\nAll guests must be 21 years or older.\nThis promises to be a roaring good time!!
URL:https://carnegiecarnival.org/event/melissa-parker-roaring-twenties-speakeasy/
LOCATION:Decatur\, AL\, 35601\, United States
ATTACH;FMTTYPE=image/jpeg:https://carnegiecarnival.org/wp-content/uploads/2018/01/event_tn_queen.jpg
END:VEVENT
BEGIN:VEVENT
DTSTART;TZID=America/Chicago:20230211T083000
DTEND;TZID=America/Chicago:20230211T170000
DTSTAMP:20260419T115302
CREATED:20230105T235236Z
LAST-MODIFIED:20230116T215314Z
UID:4389-1676104200-1676134800@carnegiecarnival.org
SUMMARY:Mary Bibb Pylant: Skeet Shoot
DESCRIPTION:Join us for 2023 CVAC Charity Skeet Shoot and Bar-B-Que Lunch to Support the Carnegie Visual Arts Center and Mary Bibb’s Princess Run for the Carnegie Carnival 2023!!\n\nThis event is limited to no more than 10 teams/40 total shooters.\n$100.00 Donation per shooter.\nSpecial Raffles and Prizes will be held at the event.\nPut together your team of 4 shooters\, or join as an individual shooter to be paired with others.\nEach team will shoot 100 Targets\, plus warm-up targets.\nTrophies will be awarded to the top three teams on the Lewis-Class System Scoring.\nWhitt’s Bar-B-Que will be served at noon.\nIf you don’t want to shoot\, register to join us for lunch only ($15 donation) to enjoy Whitt’s award-winning bar-b-que and support your shooters and the CVAC.\nMake your checks payable to CVAC and mail to Attn: Phil D. Mitchell\, PO Box 2688\, Decatur\, Al 35602. Contact Phil at pmitchell@harriscaddell.com or 256-566-3854 to register your team and obtain your shooting time.
URL:https://carnegiecarnival.org/event/skeet-shoot-2023/
LOCATION:Decatur\, AL\, 35601\, United States
ATTACH;FMTTYPE=image/jpeg:https://carnegiecarnival.org/wp-content/uploads/2018/01/event_tn_princess.jpg
END:VEVENT
BEGIN:VEVENT
DTSTART;TZID=America/Chicago:20230211T110000
DTEND;TZID=America/Chicago:20230211T130000
DTSTAMP:20260419T115302
CREATED:20230111T040434Z
LAST-MODIFIED:20230111T040434Z
UID:614-1676113200-1676120400@carnegiecarnival.org
SUMMARY:Philip Wright: Gospel Brunch
DESCRIPTION:Come and enjoy some southern gospel music by Heartfelt Evangelistic Team and Joyful Hearts\, and some delicious Southern Breakfast. Tickets are $40 per person\, kids under 12 enter Free. Purchase through PayPal and comment Gospel. All proceeds benefit the Carnegie Visual Art Center. Silent Auction and Raffle Tickets will be available on site as well.
URL:https://carnegiecarnival.org/event/philip-wright-gospel-brunch/
LOCATION:Carnegie Visual Arts Center\, 207 Church Street\, NE\, Decatur\, AL\, 35601\, United States
ATTACH;FMTTYPE=image/jpeg:https://carnegiecarnival.org/wp-content/uploads/2018/01/event_tn_king.jpg
GEO:34.6116295;-86.9820525
X-APPLE-STRUCTURED-LOCATION;VALUE=URI;X-ADDRESS=Carnegie Visual Arts Center 207 Church Street NE Decatur AL 35601 United States;X-APPLE-RADIUS=500;X-TITLE=207 Church Street\, NE:geo:-86.9820525,34.6116295
END:VEVENT
BEGIN:VEVENT
DTSTART;TZID=America/Chicago:20230211T130000
DTEND;TZID=America/Chicago:20230211T160000
DTSTAMP:20260419T115302
CREATED:20230125T001811Z
LAST-MODIFIED:20230125T001811Z
UID:4576-1676120400-1676131200@carnegiecarnival.org
SUMMARY:Kadie Long: Crawfish Drawdown
DESCRIPTION:$100 donation gets you one ticket to drawdown and all-you-can-eat crawfish. We will drawdown tickets until the last ticket left\, that ticket holder gets $5\,000!! Live music\, swag from XEO and Adams Beverages\, crawfish\, and one heck of a time! Purchase tickets at Morgan County Association of Realtors or through Kadie (1501 4th Avenue SE)
URL:https://carnegiecarnival.org/event/kadie-long-crawfish-drawdown/
LOCATION:Cross-Eyed Owl Brewing Company\, 105 1st Avenue NE\, Decatur\, AL\, 35601\, United States
ATTACH;FMTTYPE=image/jpeg:https://carnegiecarnival.org/wp-content/uploads/2018/01/event_tn_queen.jpg
GEO:34.6043143;-86.9867305
X-APPLE-STRUCTURED-LOCATION;VALUE=URI;X-ADDRESS=Cross-Eyed Owl Brewing Company 105 1st Avenue NE Decatur AL 35601 United States;X-APPLE-RADIUS=500;X-TITLE=105 1st Avenue NE:geo:-86.9867305,34.6043143
END:VEVENT
BEGIN:VEVENT
DTSTART;TZID=America/Chicago:20230212T130000
DTEND;TZID=America/Chicago:20230212T150000
DTSTAMP:20260419T115302
CREATED:20230116T215247Z
LAST-MODIFIED:20230116T215247Z
UID:4549-1676206800-1676214000@carnegiecarnival.org
SUMMARY:Berkes Barnett: Valentine's Cookie Party
DESCRIPTION:Come decorate a dozen Valentine’s cookies with Sweets by Jordan for your special someone or to share at your Super Bowl Party later that day!
URL:https://carnegiecarnival.org/event/berkes-barnett-valentines-cookie-party/
LOCATION:Carnegie Visual Arts Center\, 207 Church Street\, NE\, Decatur\, AL\, 35601\, United States
GEO:34.6116295;-86.9820525
X-APPLE-STRUCTURED-LOCATION;VALUE=URI;X-ADDRESS=Carnegie Visual Arts Center 207 Church Street NE Decatur AL 35601 United States;X-APPLE-RADIUS=500;X-TITLE=207 Church Street\, NE:geo:-86.9820525,34.6116295
END:VEVENT
BEGIN:VEVENT
DTSTART;TZID=America/Chicago:20230212T160000
DTEND;TZID=America/Chicago:20230212T200000
DTSTAMP:20260419T115302
CREATED:20230107T220344Z
LAST-MODIFIED:20230107T220619Z
UID:4480-1676217600-1676232000@carnegiecarnival.org
SUMMARY:Concert for Harley @ Josie's
DESCRIPTION:Sunday\, February 12th\n4PM-8PM\nTrey & Zach will be playing some great music to help Harley raise money for her candidacy for Lady Barks a Lot 2023.\n*Tips appreciated for the band.\nAll proceeds benefit Paws 52 Rescue and Carnegie Carnival\nYOU MUST MENTION HARLEY’S NAME OR LADY BARKS A LOT\, FOR HER TO GET A 10% DONATION FROM JOSIE’S.
URL:https://carnegiecarnival.org/event/concert-for-harley-josies/
END:VEVENT
END:VCALENDAR