BEGIN:VCALENDAR
VERSION:2.0
PRODID:-//Carnegie Carnival - ECPv6.2.9//NONSGML v1.0//EN
CALSCALE:GREGORIAN
METHOD:PUBLISH
X-ORIGINAL-URL:https://carnegiecarnival.org
X-WR-CALDESC:Events for Carnegie Carnival
REFRESH-INTERVAL;VALUE=DURATION:PT1H
X-Robots-Tag:noindex
X-PUBLISHED-TTL:PT1H
BEGIN:VTIMEZONE
TZID:America/Chicago
BEGIN:DAYLIGHT
TZOFFSETFROM:-0600
TZOFFSETTO:-0500
TZNAME:CDT
DTSTART:20230312T080000
END:DAYLIGHT
BEGIN:STANDARD
TZOFFSETFROM:-0500
TZOFFSETTO:-0600
TZNAME:CST
DTSTART:20231105T070000
END:STANDARD
END:VTIMEZONE
BEGIN:VEVENT
DTSTART;TZID=America/Chicago:20230130T180000
DTEND;TZID=America/Chicago:20230130T203000
DTSTAMP:20260419T102528
CREATED:20230121T213842Z
LAST-MODIFIED:20230121T213842Z
UID:4564-1675101600-1675110600@carnegiecarnival.org
SUMMARY:Juan Penuelas: Wine Night
DESCRIPTION:Mark your calendar and get ready to swirl\, smell\, sip and repeat! January 30 starting at 6pm. Light hors d’oeuvres provided. All\nproceeds benefitting the Carnegie Visual Arts Center. $20 per person. Grab a ticket today! Caption “wine” when you Venmo or PayPal for your ticket
URL:https://carnegiecarnival.org/event/juan-penuelas-wine-night/
LOCATION:Carnegie Visual Arts Center\, 207 Church Street\, NE\, Decatur\, AL\, 35601\, United States
ATTACH;FMTTYPE=image/jpeg:https://carnegiecarnival.org/wp-content/uploads/2018/01/event_tn_king.jpg
GEO:34.6116295;-86.9820525
X-APPLE-STRUCTURED-LOCATION;VALUE=URI;X-ADDRESS=Carnegie Visual Arts Center 207 Church Street NE Decatur AL 35601 United States;X-APPLE-RADIUS=500;X-TITLE=207 Church Street\, NE:geo:-86.9820525,34.6116295
END:VEVENT
BEGIN:VEVENT
DTSTART;TZID=America/Chicago:20230202T180000
DTEND;TZID=America/Chicago:20230202T200000
DTSTAMP:20260419T102528
CREATED:20230116T212747Z
LAST-MODIFIED:20230116T221431Z
UID:4545-1675360800-1675368000@carnegiecarnival.org
SUMMARY:Philip Wright: Wine Tasting
DESCRIPTION:Come support Philip Wright for Carnegie King\, & the Carnegie Visual Art Center. Taste 4 different wines\, Wine list : (tentatively)\nBelle glos pinot noir\, Hess allomi Cabernet\, Michael David rapture cabernet and 6th sense Syrah. Purchase your tickets today\, and comment 
URL:https://carnegiecarnival.org/event/philip-wright-wine-tasting/
LOCATION:The Little Cigar Shop\, 110 2nd Avenue\, Decatur\, AL\, 35601\, United States
ATTACH;FMTTYPE=image/jpeg:https://carnegiecarnival.org/wp-content/uploads/2018/01/event_tn_king.jpg
END:VEVENT
BEGIN:VEVENT
DTSTART;TZID=America/Chicago:20230203T190000
DTEND;TZID=America/Chicago:20230203T210000
DTSTAMP:20260419T102528
CREATED:20230119T014722Z
LAST-MODIFIED:20230120T042356Z
UID:4399-1675450800-1675458000@carnegiecarnival.org
SUMMARY:Juan Penuelas: Drag Queen Bingo
DESCRIPTION:Hear ye\, hear ye!!! The event you have all been waiting for…Join us at the Carnegie on Feb 3rd\, 7-9 pm as The Queens have officially arrived! Seats are limited so reserve yours today!\nBe sure to comment how many tickets you would like and payment can be made below. Also\, comment “bingo”\nVenmo- @Juan-Penuelas-2\nPayPal- @Robyndean378
URL:https://carnegiecarnival.org/event/juan-penuelas-drag-queen-bingo/
LOCATION:Ingall’s Pavilion\, 802-A Wilson St NW\, Decatur\, AL\, 35601\, United States
ATTACH;FMTTYPE=image/jpeg:https://carnegiecarnival.org/wp-content/uploads/2018/01/event_tn_king.jpg
END:VEVENT
BEGIN:VEVENT
DTSTART;VALUE=DATE:20230204
DTEND;VALUE=DATE:20230205
DTSTAMP:20260419T102528
CREATED:20230108T155628Z
LAST-MODIFIED:20230108T155628Z
UID:4502-1675468800-1675555199@carnegiecarnival.org
SUMMARY:Charles Papenburg: Carnival Steak Cook-Off
DESCRIPTION:Calling all Cooks! Help us spread the word about our upcoming Steak Cookoff on Feb 4th to support the Carnegie Visual Arts Center during Carnegie Carnival at Ingall’s Harbor.  The Event is at Ingall’s Harbor Pavilion in Decatur\, AL. \nAncillary Categories:\nCocktail\nMuffuletta\nKids Q Competition \nTo find out more and to register go to steakcookoffs.com \nPromoter Info:\nNancy Case\n256-345-7802\nnmcase@aol.com
URL:https://carnegiecarnival.org/event/charles-papenburg-carnival-steak-cook-off/
LOCATION:Ingall’s Pavilion\, 802-A Wilson St NW\, Decatur\, AL\, 35601\, United States
ATTACH;FMTTYPE=image/jpeg:https://carnegiecarnival.org/wp-content/uploads/2018/01/event_tn_king.jpg
END:VEVENT
BEGIN:VEVENT
DTSTART;TZID=America/Chicago:20230204T100000
DTEND;TZID=America/Chicago:20230204T140000
DTSTAMP:20260419T102528
CREATED:20230103T011815Z
LAST-MODIFIED:20230114T164952Z
UID:4397-1675504800-1675519200@carnegiecarnival.org
SUMMARY:Charles Papenburg: Carnegie Carnival Cornhole Tournament
DESCRIPTION:Register for the Carnegie Carnival Cornhole Tournament at Ingall’s Pavillion and Event Center!\n$40 entry fee per team\nBegins at 10 am but come early to practice!\nBring your own bags. \nFirst Place: $500\, Second Place: $200\, Third Place: $150\nCoordinated by Nature’s Trail Cornhole. \n 
URL:https://carnegiecarnival.org/event/carnegie-carnival-cornhole-tourney/
LOCATION:Ingall’s Pavilion\, 802-A Wilson St NW\, Decatur\, AL\, 35601\, United States
ATTACH;FMTTYPE=image/jpeg:https://carnegiecarnival.org/wp-content/uploads/2018/01/event_tn_king.jpg
END:VEVENT
BEGIN:VEVENT
DTSTART;TZID=America/Chicago:20230205T160000
DTEND;TZID=America/Chicago:20230205T210000
DTSTAMP:20260419T102528
CREATED:20240203T211629Z
LAST-MODIFIED:20241121T174442Z
UID:5164-1675612800-1675630800@carnegiecarnival.org
SUMMARY:Mellow Mushroom Spirit Night with Catherine
DESCRIPTION:Savor the taste of giving! Join me at Mellow Mushroom on February 5th\, 4:00-9:00 PM. 10% of your orders\, dine-in\, online\, or takeout\, will support CASA\, Carnegie Arts\, and my Carnegie Princess campaign. Let’s make a difference\, one slice at a time!\nTime: February 5th\, 2024 from 4:00-9:00 PM\nLocation: 202 Moulton St E\, Decatur\, AL 35601
URL:https://carnegiecarnival.org/event/mellow-mushroom-spirit-night-with-catherine/
CATEGORIES:Princess
ATTACH;FMTTYPE=image/jpeg:https://carnegiecarnival.org/wp-content/uploads/2018/01/event_tn_princess.jpg
END:VEVENT
END:VCALENDAR