BEGIN:VCALENDAR
VERSION:2.0
PRODID:-//Carnegie Carnival - ECPv6.2.9//NONSGML v1.0//EN
CALSCALE:GREGORIAN
METHOD:PUBLISH
X-WR-CALNAME:Carnegie Carnival
X-ORIGINAL-URL:https://carnegiecarnival.org
X-WR-CALDESC:Events for Carnegie Carnival
REFRESH-INTERVAL;VALUE=DURATION:PT1H
X-Robots-Tag:noindex
X-PUBLISHED-TTL:PT1H
BEGIN:VTIMEZONE
TZID:America/Chicago
BEGIN:DAYLIGHT
TZOFFSETFROM:-0600
TZOFFSETTO:-0500
TZNAME:CDT
DTSTART:20220313T080000
END:DAYLIGHT
BEGIN:STANDARD
TZOFFSETFROM:-0500
TZOFFSETTO:-0600
TZNAME:CST
DTSTART:20221106T070000
END:STANDARD
END:VTIMEZONE
BEGIN:VEVENT
DTSTART;TZID=America/Chicago:20220221T180000
DTEND;TZID=America/Chicago:20220221T200000
DTSTAMP:20260420T054947
CREATED:20220113T235524Z
LAST-MODIFIED:20220113T235524Z
UID:3881-1645466400-1645473600@carnegiecarnival.org
SUMMARY:Ginger Vandiver: Whiskey & Wine Tasting
DESCRIPTION:Come out to Josie’s Monday the 21st and try all kinds of Whiskey and Wines that you may have heard of and never tried. Some of these bottles have been camped out for\, just for you! A wonderful selection of meats\, cheeses\, etc from all over the world will be provided to help cleanse your palate between samples. There will be a silent auction with carefully selected spirits as well as a wine toss (no skill involved). Tickets are $50 a piece and this is a 21 and up event. Josie’s will be closed to the public this night and we thank them for their support.\nPlease purchase your tickets thru the Venmo link below or directly from a Merry Widow with cash or check.
URL:https://carnegiecarnival.org/event/ginger-vandiver-whiskey-wine-tasting/
CATEGORIES:Queen
ATTACH;FMTTYPE=image/jpeg:https://carnegiecarnival.org/wp-content/uploads/2018/01/event_tn_queen.jpg
END:VEVENT
BEGIN:VEVENT
DTSTART;TZID=America/Chicago:20220222T180000
DTEND;TZID=America/Chicago:20220222T200000
DTSTAMP:20260420T054947
CREATED:20220130T154710Z
LAST-MODIFIED:20220130T154722Z
UID:3975-1645552800-1645560000@carnegiecarnival.org
SUMMARY:Marley Froscello: Paint with the Queen
DESCRIPTION:Hear ye\, hear ye! The Queen Tracy Roberts McCann Carnegie Queen X summons all subjects to an evening of painting in her new domain The Studio on Bank at 506 Bank Street on Tuesday\, February 22 from 6-8 pm. We will be creating 2 beautiful paintings that will get your home ready for Easter once our Carnegie Carnival festivities come to a close\, a 4×4 egg and a 10×4 carrots in a gorgeous textured finish. You get to do both! The Queen decrees that a portion of proceeds will be donated to my fundraising efforts benefitting the Carnegie & CASA of North Alabama. $50/person and you may bring a beverage if you desire! PayPal marleyforprincess@gmail.com or Venmo ashley-froscello. Please indicate in the comments what event you are paying for.
URL:https://carnegiecarnival.org/event/marley-froscello-paint-with-the-queen/
LOCATION:The Studio on Bank\, 506 Bank Street\, Decatur\, AL\, 35601\, United States
CATEGORIES:Princess
ATTACH;FMTTYPE=image/jpeg:https://carnegiecarnival.org/wp-content/uploads/2018/01/event_tn_princess.jpg
END:VEVENT
END:VCALENDAR