BEGIN:VCALENDAR
VERSION:2.0
PRODID:-//Carnegie Carnival - ECPv6.2.9//NONSGML v1.0//EN
CALSCALE:GREGORIAN
METHOD:PUBLISH
X-ORIGINAL-URL:https://carnegiecarnival.org
X-WR-CALDESC:Events for Carnegie Carnival
REFRESH-INTERVAL;VALUE=DURATION:PT1H
X-Robots-Tag:noindex
X-PUBLISHED-TTL:PT1H
BEGIN:VTIMEZONE
TZID:America/Chicago
BEGIN:DAYLIGHT
TZOFFSETFROM:-0600
TZOFFSETTO:-0500
TZNAME:CDT
DTSTART:20220313T080000
END:DAYLIGHT
BEGIN:STANDARD
TZOFFSETFROM:-0500
TZOFFSETTO:-0600
TZNAME:CST
DTSTART:20221106T070000
END:STANDARD
END:VTIMEZONE
BEGIN:VEVENT
DTSTART;TZID=America/Chicago:20220124T183000
DTEND;TZID=America/Chicago:20220124T210000
DTSTAMP:20260420T044207
CREATED:20220112T004837Z
LAST-MODIFIED:20220120T235540Z
UID:3838-1643049000-1643058000@carnegiecarnival.org
SUMMARY:CANCELLED- Maggie Guyse: Dinner & Silent Auction
DESCRIPTION:It is with regret that we have to inform you that our Dinner & Silent Auction that was scheduled for Monday evening 01/24 has been canceled.\n\n\nAll items that were donated for the Silent Auction will still be up for bid; be sure to watch our Facebook Live on Monday night showcasing each item and for your chance to bid…right from the comfort of your home.\n\n\n\nWe will be contacting everyone that purchased tickets to the event and issue a refund.\n\n\n\nThank you\,\nMaggie & Brodie
URL:https://carnegiecarnival.org/event/maggie-guyse-dinner-silent-auction/
LOCATION:AL\, United States
CATEGORIES:Prince,Princess
ATTACH;FMTTYPE=image/jpeg:https://carnegiecarnival.org/wp-content/uploads/2018/01/event_tn_princess.jpg
END:VEVENT
BEGIN:VEVENT
DTSTART;TZID=America/Chicago:20220125T180000
DTEND;TZID=America/Chicago:20220125T210000
DTSTAMP:20260420T044207
CREATED:20220110T023706Z
LAST-MODIFIED:20220111T010608Z
UID:3724-1643133600-1643144400@carnegiecarnival.org
SUMMARY:Cailey Barbee: Paint Class
DESCRIPTION:$30 DIY Circle Door Hanger Paint Class at Carnegie Visual Arts Center \nPainting Instructor: Kristen Lorance \nCashapp: $caileyforcarnegie \nVenmo: @caileyforcarnegie \nMessage Cailey Barbee for cash \nIn payment notes: your name & “paint”\nAll proceeds go to CASA of North Alabama & Carnegie Visual Arts Center
URL:https://carnegiecarnival.org/event/cailey-barbee-paint-class/
LOCATION:Carnegie Visual Arts Center\, 207 Church Street\, NE\, Decatur\, AL\, 35601\, United States
CATEGORIES:Princess
ATTACH;FMTTYPE=image/jpeg:https://carnegiecarnival.org/wp-content/uploads/2018/01/event_tn_princess.jpg
GEO:34.6116295;-86.9820525
X-APPLE-STRUCTURED-LOCATION;VALUE=URI;X-ADDRESS=Carnegie Visual Arts Center 207 Church Street NE Decatur AL 35601 United States;X-APPLE-RADIUS=500;X-TITLE=207 Church Street\, NE:geo:-86.9820525,34.6116295
END:VEVENT
BEGIN:VEVENT
DTSTART;TZID=America/Chicago:20220126T173000
DTEND;TZID=America/Chicago:20220126T210000
DTSTAMP:20260420T044207
CREATED:20220120T235810Z
LAST-MODIFIED:20220121T000103Z
UID:3941-1643218200-1643230800@carnegiecarnival.org
SUMMARY:John Allison: Bourbon and Cigar Event
DESCRIPTION:Join us for an evening of fine bourbons\, cigars\, and food in the lounge of 113 Club. Tastings of excellent bourbons and heavy hors d’oeuvres prepared by legendary Decatur chef Victor Melonas will be included in the price of a ticket. A number of sought-after bourbons will be up for raffle\, as well as a custom-designed Knob Creek bottle etched with the 2022 Carnegie Carnival Logo\, and other exciting items and experiences. Guests may bring their own beverages if they wish. This is an event not to be missed by those who enjoy the finer things! Tickets are $50 each and are available from King Candidate John Allison or at the Carnegie Visual Arts Center. IF YOU CHOOSE TO PAY USING THE PAYPAL LINK POSTED HERE\, PLEASE NOTE “BOURBON” SO THAT YOU CAN BE PUT ON THE GUEST LIST! All proceeds benefit Carnegie. Contact John Allison for information by messaging on Facebook or11 or calling 256-351-4726.
URL:https://carnegiecarnival.org/event/john-allison-bourbon-and-cigar-event/
LOCATION:113 Club\, 113 Grant St SE\, Decatur\, AL\, 35601\, United States
CATEGORIES:King
ATTACH;FMTTYPE=image/jpeg:https://carnegiecarnival.org/wp-content/uploads/2018/01/event_tn_king.jpg
END:VEVENT
BEGIN:VEVENT
DTSTART;TZID=America/Chicago:20220128T060000
DTEND;TZID=America/Chicago:20220128T150000
DTSTAMP:20260420T044207
CREATED:20220112T011115Z
LAST-MODIFIED:20220112T011115Z
UID:3855-1643349600-1643382000@carnegiecarnival.org
SUMMARY:Maggie Guyse: Spirit Day at West Main Nutrition
DESCRIPTION:Support Maggie Guyse and Brodie Morrow for a Spirit Day ALL day at West Main in Hartselle!
URL:https://carnegiecarnival.org/event/maggie-guyse-spirit-day-at-west-main-nutrition/
LOCATION:West Main Nutrition\, 410 Main St. W STE. B\, Hartselle\, AL\, 35640\, United States
CATEGORIES:Princess
ATTACH;FMTTYPE=image/jpeg:https://carnegiecarnival.org/wp-content/uploads/2018/01/event_tn_princess.jpg
END:VEVENT
BEGIN:VEVENT
DTSTART;TZID=America/Chicago:20220128T063000
DTEND;TZID=America/Chicago:20220128T150000
DTSTAMP:20260420T044207
CREATED:20220112T011148Z
LAST-MODIFIED:20220112T011218Z
UID:3854-1643351400-1643382000@carnegiecarnival.org
SUMMARY:Brodie Morrow: Spirit Day at West Main Nutrition
DESCRIPTION:Support Maggie Guyse and Brodie Morrow for a Spirit Day ALL day at West Main in Hartselle!
URL:https://carnegiecarnival.org/event/brodie-morrow-spirit-day-at-west-main-nutrition/
LOCATION:West Main Nutrition\, 410 Main St. W STE. B\, Hartselle\, AL\, 35640\, United States
CATEGORIES:Prince
ATTACH;FMTTYPE=image/jpeg:https://carnegiecarnival.org/wp-content/uploads/2018/01/event_tn_prince.jpg
END:VEVENT
BEGIN:VEVENT
DTSTART;VALUE=DATE:20220129
DTEND;VALUE=DATE:20220130
DTSTAMP:20260420T044207
CREATED:20220111T020953Z
LAST-MODIFIED:20220111T020953Z
UID:3791-1643414400-1643500799@carnegiecarnival.org
SUMMARY:Marley Froscello: Shopping Day at Indigo's Boutique
DESCRIPTION:Come out for a day of shopping downtown! Indigo’s Boutique has graciously offered to donate a portion of sales all day on January 29 to Marley’s fundraising campaign for Carnegie Visual Arts and CASA of North Alabama. Come get you or your loved one something pretty and help our community!
URL:https://carnegiecarnival.org/event/marley-froscello-shopping-day-at-indigos-boutique/
LOCATION:Indigo’s Boutique\, 209 B 2nd Ave S.E.\, Decatur\, AL\, 35601\, United States
CATEGORIES:Princess
ATTACH;FMTTYPE=image/jpeg:https://carnegiecarnival.org/wp-content/uploads/2018/01/event_tn_princess.jpg
END:VEVENT
BEGIN:VEVENT
DTSTART;TZID=America/Chicago:20220129T070000
DTEND;TZID=America/Chicago:20220129T080000
DTSTAMP:20260420T044207
CREATED:20220114T000158Z
LAST-MODIFIED:20220114T000412Z
UID:3885-1643439600-1643443200@carnegiecarnival.org
SUMMARY:Cailey Barbee: Sweating for a Cause
DESCRIPTION:*Sweatin’ for a Cause*\nCome work out at Body Burn Fitness on Saturday\, January 29th at 7 am. $20 to participate (all proceeds go to CASA of North Alabama and Carnegie Visual Arts Center.) You do not have to be a member of Body Burn to participate.
URL:https://carnegiecarnival.org/event/cailey-barbee-sweating-for-a-cause/
LOCATION:Body Burn Fitness\, 21556 Alabama Highway 24\, Trinity\, AL\, 35673\, United States
CATEGORIES:Princess
ATTACH;FMTTYPE=image/jpeg:https://carnegiecarnival.org/wp-content/uploads/2018/01/event_tn_princess.jpg
END:VEVENT
BEGIN:VEVENT
DTSTART;TZID=America/Chicago:20220129T070000
DTEND;TZID=America/Chicago:20220129T080000
DTSTAMP:20260420T044207
CREATED:20220114T000338Z
LAST-MODIFIED:20220114T000338Z
UID:3888-1643439600-1643443200@carnegiecarnival.org
SUMMARY:Cade Alexander: Sweating for a Cause
DESCRIPTION:*Sweatin’ for a Cause*\nCome work out at Body Burn Fitness on Saturday\, January 29th at 7 am. $20 to participate (all proceeds go to CASA of North Alabama and Carnegie Visual Arts Center.) You do not have to be a member of Body Burn to participate.
URL:https://carnegiecarnival.org/event/cade-alexander-sweating-for-a-cause/
LOCATION:Body Burn Fitness\, 21556 Alabama Highway 24\, Trinity\, AL\, 35673\, United States
CATEGORIES:Prince
ATTACH;FMTTYPE=image/jpeg:https://carnegiecarnival.org/wp-content/uploads/2018/01/event_tn_prince.jpg
END:VEVENT
BEGIN:VEVENT
DTSTART;TZID=America/Chicago:20220129T110000
DTEND;TZID=America/Chicago:20220129T140000
DTSTAMP:20260420T044207
CREATED:20220111T013323Z
LAST-MODIFIED:20220113T234023Z
UID:3757-1643454000-1643464800@carnegiecarnival.org
SUMMARY:Ginger Vandiver: Bag Lady Brunch
DESCRIPTION:Tons of fun\, fantastic food\, fabulous fashions\, and so many wonderful purses and bags up for auction! $35 includes a buffet-style brunch\, 1 raffle ticket for a designer handbag\, and lots of fun.\nThere will be entertainment\, a cash bar with mimosas and bloody marys\, and a silent auction with tons of handbags and accessories.\nPlease reserve your tickets in person thru a Merry Widow or by Venmo
URL:https://carnegiecarnival.org/event/ginger-vandiver-bag-lady-brunch/
LOCATION:Carnegie Visual Arts Center\, 207 Church Street\, NE\, Decatur\, AL\, 35601\, United States
CATEGORIES:Queen
ATTACH;FMTTYPE=image/jpeg:https://carnegiecarnival.org/wp-content/uploads/2018/01/event_tn_queen.jpg
GEO:34.6116295;-86.9820525
X-APPLE-STRUCTURED-LOCATION;VALUE=URI;X-ADDRESS=Carnegie Visual Arts Center 207 Church Street NE Decatur AL 35601 United States;X-APPLE-RADIUS=500;X-TITLE=207 Church Street\, NE:geo:-86.9820525,34.6116295
END:VEVENT
END:VCALENDAR