BEGIN:VCALENDAR
VERSION:2.0
PRODID:-//Carnegie Carnival - ECPv6.2.9//NONSGML v1.0//EN
CALSCALE:GREGORIAN
METHOD:PUBLISH
X-ORIGINAL-URL:https://carnegiecarnival.org
X-WR-CALDESC:Events for Carnegie Carnival
REFRESH-INTERVAL;VALUE=DURATION:PT1H
X-Robots-Tag:noindex
X-PUBLISHED-TTL:PT1H
BEGIN:VTIMEZONE
TZID:UTC
BEGIN:STANDARD
TZOFFSETFROM:+0000
TZOFFSETTO:+0000
TZNAME:UTC
DTSTART:20260101T000000
END:STANDARD
END:VTIMEZONE
BEGIN:VEVENT
DTSTART;TZID=UTC:20260214T180000
DTEND;TZID=UTC:20260214T180000
DTSTAMP:20260419T181704
CREATED:20171123T042044Z
LAST-MODIFIED:20260206T191800Z
UID:404-1771092000-1771092000@carnegiecarnival.org
SUMMARY:Carnegie Carnival Parade 2026
DESCRIPTION:[vc_row css_animation=”” row_type=”row” use_row_as_full_screen_section=”no” type=”full_width” angled_section=”no” text_align=”left” background_image_as_pattern=”without_pattern”][vc_column][vc_column_text]Have you ever seen a full-size replica of a wooden pirate ship “sail” down the street? It happens every year at Carnegie Carnival\, North Alabama’s Premier Mardi Gras Celebration! Join the Pirate Crewe O’Ye Crooked Goat\, the Sirens of Achelous and Skeleton Crewe\, Joe Cain’s Merry Widows\, that wild and crazy Crewe of Chaos\, plus many\, many more for an unforgettable night of fabulous floats\, music\, dancing\, and most importantly family fun! The parade will start on Bank Street and drive through 2nd Ave. This is a free event. \nJoin us at the historic Princess Theatre immediately following the parade for the official Coronation of the 2026 King and Queen XIV![/vc_column_text][vc_column_text] \nWant to join in the fun?\nFind out how to start a Crewe and be a part of the fun![/vc_column_text]Carnegie Carnival Parade Info[/vc_column][/vc_row]
URL:https://carnegiecarnival.org/event/carnegie-carnival-parade-2026/
LOCATION:Bank Street to 2nd Avenue\, Second Avenue NE\, Decatur\, AL\, 35601\, United States
ATTACH;FMTTYPE=image/jpeg:https://carnegiecarnival.org/wp-content/uploads/2017/12/event_tn_parade3.jpg
GEO:34.605207;-86.9850322
X-APPLE-STRUCTURED-LOCATION;VALUE=URI;X-ADDRESS=Bank Street to 2nd Avenue Second Avenue NE Decatur AL 35601 United States;X-APPLE-RADIUS=500;X-TITLE=Second Avenue NE:geo:-86.9850322,34.605207
END:VEVENT
END:VCALENDAR