BEGIN:VCALENDAR
VERSION:2.0
PRODID:-//Carnegie Carnival - ECPv6.2.9//NONSGML v1.0//EN
CALSCALE:GREGORIAN
METHOD:PUBLISH
X-WR-CALNAME:Carnegie Carnival
X-ORIGINAL-URL:https://carnegiecarnival.org
X-WR-CALDESC:Events for Carnegie Carnival
REFRESH-INTERVAL;VALUE=DURATION:PT1H
X-Robots-Tag:noindex
X-PUBLISHED-TTL:PT1H
BEGIN:VTIMEZONE
TZID:America/Chicago
BEGIN:DAYLIGHT
TZOFFSETFROM:-0600
TZOFFSETTO:-0500
TZNAME:CDT
DTSTART:20230312T080000
END:DAYLIGHT
BEGIN:STANDARD
TZOFFSETFROM:-0500
TZOFFSETTO:-0600
TZNAME:CST
DTSTART:20231105T070000
END:STANDARD
END:VTIMEZONE
BEGIN:VEVENT
DTSTART;TZID=America/Chicago:20230113T183000
DTEND;TZID=America/Chicago:20230113T200000
DTSTAMP:20260419T085437
CREATED:20230107T212834Z
LAST-MODIFIED:20230116T215501Z
UID:4472-1673634600-1673640000@carnegiecarnival.org
SUMMARY:Kadie Long: Diner en Noir
DESCRIPTION:In the spirit of the first Friday the Thirteenth of the year I am hosting Diner en Noir! Dress in all black and join us for a wonderful dinner in a secret location\, prepared by culinarian Queen candidate\, Kadie Long!\nYou will enjoy a three-course meal\, and wine pairing\, and go home with a piece of art from a local artist! *limited spots available*\ncomment “Diner en Noir” to purchase tickets through Venmo (@kd_long) and PayPal!
URL:https://carnegiecarnival.org/event/diner-en-noir/
LOCATION:Decatur\, AL\, 35601\, United States
ATTACH;FMTTYPE=image/jpeg:https://carnegiecarnival.org/wp-content/uploads/2018/01/event_tn_queen.jpg
END:VEVENT
BEGIN:VEVENT
DTSTART;TZID=America/Chicago:20230114T120000
DTEND;TZID=America/Chicago:20230114T170000
DTSTAMP:20260419T085437
CREATED:20230107T220912Z
LAST-MODIFIED:20230107T220912Z
UID:4490-1673697600-1673715600@carnegiecarnival.org
SUMMARY:Pet & Me Photo with Lenny
DESCRIPTION:Professional Photographer Joe Shutt will be onsite at indigo’s taking pet photos of you & your pet. Cost $25 per pet . Must be paid up front to hold your spot. Time slots must be scheduled so message to secure a time . Photos start at 12 pm . You may also call the store tomorrow schedule 256-686-3699 .
URL:https://carnegiecarnival.org/event/pet-me-photo-with-lenny/
LOCATION:Indigo’s Boutique\, 209 B 2nd Ave S.E.\, Decatur\, AL\, 35601\, United States
END:VEVENT
BEGIN:VEVENT
DTSTART;TZID=America/Chicago:20230124T180000
DTEND;TZID=America/Chicago:20230124T210000
DTSTAMP:20260419T085437
CREATED:20230111T040210Z
LAST-MODIFIED:20230111T040210Z
UID:4528-1674583200-1674594000@carnegiecarnival.org
SUMMARY:Charles Papenburg: Sip 'n Paint with Rickie Higgins
DESCRIPTION:Support Charlie for Carnegie King!\nSip n Paint with Rickie Higgins\, January 24th\, from 6:00-9:00 at the Carnegie Visual Arts Center! $60 includes all supplies\, cash bar. Limit 20
URL:https://carnegiecarnival.org/event/charles-papenburg-sip-n-paint-with-rickie-higgins/
LOCATION:Carnegie Visual Arts Center\, 207 Church Street\, NE\, Decatur\, AL\, 35601\, United States
ATTACH;FMTTYPE=image/jpeg:https://carnegiecarnival.org/wp-content/uploads/2018/01/event_tn_king.jpg
GEO:34.6116295;-86.9820525
X-APPLE-STRUCTURED-LOCATION;VALUE=URI;X-ADDRESS=Carnegie Visual Arts Center 207 Church Street NE Decatur AL 35601 United States;X-APPLE-RADIUS=500;X-TITLE=207 Church Street\, NE:geo:-86.9820525,34.6116295
END:VEVENT
BEGIN:VEVENT
DTSTART;TZID=America/Chicago:20230127T190000
DTEND;TZID=America/Chicago:20230127T190000
DTSTAMP:20260419T085437
CREATED:20230107T220736Z
LAST-MODIFIED:20230116T215413Z
UID:4486-1674846000-1674846000@carnegiecarnival.org
SUMMARY:Mary Bibb Pylant: Silent Auction Soirée
DESCRIPTION:Incredible Auction supporting the campaign of Mary Bibb for Princess and benefiting two fabulous organizations!
URL:https://carnegiecarnival.org/event/silent-auction-soiree/
LOCATION:Decatur\, AL\, 35601\, United States
ATTACH;FMTTYPE=image/jpeg:https://carnegiecarnival.org/wp-content/uploads/2018/01/event_tn_princess.jpg
END:VEVENT
BEGIN:VEVENT
DTSTART;TZID=America/Chicago:20230128T080000
DTEND;TZID=America/Chicago:20230128T140000
DTSTAMP:20260419T085437
CREATED:20230125T001906Z
LAST-MODIFIED:20230125T001906Z
UID:4578-1674892800-1674914400@carnegiecarnival.org
SUMMARY:Kadie Long: Rummage Sale
DESCRIPTION:
URL:https://carnegiecarnival.org/event/kadie-long-rummage-sale/
LOCATION:Alabama Center for the Arts\, 133 2nd Ave NE\,\, Decatur\, AL\, 35601\, United States
ATTACH;FMTTYPE=image/jpeg:https://carnegiecarnival.org/wp-content/uploads/2018/01/event_tn_queen.jpg
END:VEVENT
BEGIN:VEVENT
DTSTART;TZID=America/Chicago:20230128T090000
DTEND;TZID=America/Chicago:20230128T120000
DTSTAMP:20260419T085437
CREATED:20230116T222335Z
LAST-MODIFIED:20230116T222335Z
UID:4557-1674896400-1674907200@carnegiecarnival.org
SUMMARY:Paint Your Pet
DESCRIPTION:Join us for Paint Your Pet!! All you have to do is message us with a headshot picture of your pet\, we will trace it on a canvas\, and you paint it. This is going to be lots of fun\, and you will have a great piece of artwork for your walls! You can paint your dog\, cat\, chicken\, goat\, horse\, etc. just send us the headshot. \nAll classes are at the Carnegie Visual Arts Center ~ 207 Church Street ~ Decatur. \nProceeds benefit local animal rescue group Paws 52 and Carnegie Art Center. \nClasses are $40 and payment is required to hold your spot. You can call Judy at 512-771-4982 or message us on Facebook with questions or to make your reservation. \nDon’t miss out – Register today!
URL:https://carnegiecarnival.org/event/paint-your-pet/2023-01-28/
LOCATION:Carnegie Visual Arts Center\, 207 Church Street\, NE\, Decatur\, AL\, 35601\, United States
GEO:34.6116295;-86.9820525
X-APPLE-STRUCTURED-LOCATION;VALUE=URI;X-ADDRESS=Carnegie Visual Arts Center 207 Church Street NE Decatur AL 35601 United States;X-APPLE-RADIUS=500;X-TITLE=207 Church Street\, NE:geo:-86.9820525,34.6116295
END:VEVENT
BEGIN:VEVENT
DTSTART;TZID=America/Chicago:20230128T190000
DTEND;TZID=America/Chicago:20230128T220000
DTSTAMP:20260419T085437
CREATED:20230103T012411Z
LAST-MODIFIED:20230109T020010Z
UID:4408-1674932400-1674943200@carnegiecarnival.org
SUMMARY:Philip Wright: Carnival Lip Sync Battle
DESCRIPTION:This is a night you do not want to miss! Come out and watch the Crewes compete for this year’s trophy. We may even open up the floor for anyone willing to come sing their hearts out!
URL:https://carnegiecarnival.org/event/carnival-lip-sync-battle/
LOCATION:The Brick Deli\, 112 East Moulton Street\, Decatur\, AL\, 35601\, United States
ATTACH;FMTTYPE=image/jpeg:https://carnegiecarnival.org/wp-content/uploads/2018/01/event_tn_king.jpg
GEO:34.6041777;-86.9859025
X-APPLE-STRUCTURED-LOCATION;VALUE=URI;X-ADDRESS=The Brick Deli 112 East Moulton Street Decatur AL 35601 United States;X-APPLE-RADIUS=500;X-TITLE=112 East Moulton Street:geo:-86.9859025,34.6041777
END:VEVENT
BEGIN:VEVENT
DTSTART;TZID=America/Chicago:20230129T110000
DTEND;TZID=America/Chicago:20230129T130000
DTSTAMP:20260419T085437
CREATED:20230111T035538Z
LAST-MODIFIED:20230116T211508Z
UID:4402-1674990000-1674997200@carnegiecarnival.org
SUMMARY:Kiya McRae: Bag Lady Brunch
DESCRIPTION:Join us for flavorful food\, fabulous fashions\, and fantastic deals at the highly anticipated Bag Lady Brunch!\nSip on your mimosa\, as you browse through the new and gently used handbags and accessories available for silent auction. There will be bags of all different shapes and sizes\, we will have something to fit every style!\nTickets are $40 and can be purchased through Venmo or PayPal (with the note “Bag Lady Brunch”) under @kiyaforcarnegiequeen. Ticket will include admission\, brunch\, and a raffle ticket. Cash bar will be available.
URL:https://carnegiecarnival.org/event/kiya-mcrae-bag-lady-brunch/
ATTACH;FMTTYPE=image/jpeg:https://carnegiecarnival.org/wp-content/uploads/2018/01/event_tn_queen.jpg
END:VEVENT
BEGIN:VEVENT
DTSTART;TZID=America/Chicago:20230130T180000
DTEND;TZID=America/Chicago:20230130T203000
DTSTAMP:20260419T085437
CREATED:20230121T213842Z
LAST-MODIFIED:20230121T213842Z
UID:4564-1675101600-1675110600@carnegiecarnival.org
SUMMARY:Juan Penuelas: Wine Night
DESCRIPTION:Mark your calendar and get ready to swirl\, smell\, sip and repeat! January 30 starting at 6pm. Light hors d’oeuvres provided. All\nproceeds benefitting the Carnegie Visual Arts Center. $20 per person. Grab a ticket today! Caption “wine” when you Venmo or PayPal for your ticket
URL:https://carnegiecarnival.org/event/juan-penuelas-wine-night/
LOCATION:Carnegie Visual Arts Center\, 207 Church Street\, NE\, Decatur\, AL\, 35601\, United States
ATTACH;FMTTYPE=image/jpeg:https://carnegiecarnival.org/wp-content/uploads/2018/01/event_tn_king.jpg
GEO:34.6116295;-86.9820525
X-APPLE-STRUCTURED-LOCATION;VALUE=URI;X-ADDRESS=Carnegie Visual Arts Center 207 Church Street NE Decatur AL 35601 United States;X-APPLE-RADIUS=500;X-TITLE=207 Church Street\, NE:geo:-86.9820525,34.6116295
END:VEVENT
END:VCALENDAR