BEGIN:VCALENDAR
VERSION:2.0
PRODID:-//Carnegie Carnival - ECPv6.2.9//NONSGML v1.0//EN
CALSCALE:GREGORIAN
METHOD:PUBLISH
X-ORIGINAL-URL:https://carnegiecarnival.org
X-WR-CALDESC:Events for Carnegie Carnival
REFRESH-INTERVAL;VALUE=DURATION:PT1H
X-Robots-Tag:noindex
X-PUBLISHED-TTL:PT1H
BEGIN:VTIMEZONE
TZID:America/Chicago
BEGIN:DAYLIGHT
TZOFFSETFROM:-0600
TZOFFSETTO:-0500
TZNAME:CDT
DTSTART:20260308T080000
END:DAYLIGHT
BEGIN:STANDARD
TZOFFSETFROM:-0500
TZOFFSETTO:-0600
TZNAME:CST
DTSTART:20261101T070000
END:STANDARD
END:VTIMEZONE
BEGIN:VEVENT
DTSTART;TZID=America/Chicago:20260213T190000
DTEND;TZID=America/Chicago:20260213T210000
DTSTAMP:20260424T020643
CREATED:20220111T041807Z
LAST-MODIFIED:20260206T174641Z
UID:3836-1771009200-1771016400@carnegiecarnival.org
SUMMARY:Cake Shake 2026
DESCRIPTION:[vc_row css_animation=”” row_type=”row” use_row_as_full_screen_section=”no” type=”full_width” angled_section=”no” text_align=”left” background_image_as_pattern=”without_pattern”][vc_column][vc_column_text] \nFree cake for everyone! Join your Royal Kings and Queens of Carnegie Carnival as they host the community in celebrating the Carnival Season the night before parade day. There will be cakes galore\, dancing along to fantastic tunes\, libations\, and just an all-around blast! Live Music with Dylan Johnson & Jude Roberts. Sponsored by Renasant Bank.\n[/vc_column_text][/vc_column][/vc_row]
URL:https://carnegiecarnival.org/event/cake-shake-2026/
LOCATION:The Princess Theatre\, 112 2nd Avenue NE\, Decatur\, AL\, 35601\, United States
ATTACH;FMTTYPE=image/jpeg:https://carnegiecarnival.org/wp-content/uploads/2017/12/hero_bkgd_kingcake2.jpg
END:VEVENT
END:VCALENDAR