BEGIN:VCALENDAR
VERSION:2.0
PRODID:-//Carnegie Carnival - ECPv6.2.9//NONSGML v1.0//EN
CALSCALE:GREGORIAN
METHOD:PUBLISH
X-WR-CALNAME:Carnegie Carnival
X-ORIGINAL-URL:https://carnegiecarnival.org
X-WR-CALDESC:Events for Carnegie Carnival
REFRESH-INTERVAL;VALUE=DURATION:PT1H
X-Robots-Tag:noindex
X-PUBLISHED-TTL:PT1H
BEGIN:VTIMEZONE
TZID:America/Chicago
BEGIN:DAYLIGHT
TZOFFSETFROM:-0600
TZOFFSETTO:-0500
TZNAME:CDT
DTSTART:20260308T080000
END:DAYLIGHT
BEGIN:STANDARD
TZOFFSETFROM:-0500
TZOFFSETTO:-0600
TZNAME:CST
DTSTART:20261101T070000
END:STANDARD
END:VTIMEZONE
BEGIN:VEVENT
DTSTART;TZID=America/Chicago:20260201T140000
DTEND;TZID=America/Chicago:20260201T153000
DTSTAMP:20260424T033154
CREATED:20230103T012847Z
LAST-MODIFIED:20260128T184251Z
UID:4410-1769954400-1769959800@carnegiecarnival.org
SUMMARY:Strut Your Paws Doggy Fashion Show
DESCRIPTION:[vc_row css_animation=”” row_type=”row” use_row_as_full_screen_section=”no” type=”full_width” angled_section=”no” text_align=”left” background_image_as_pattern=”without_pattern”][vc_column width=”1/2″][vc_column_text]Think your dog has what it takes to walk the “cat walk”? Let them come strut their stuff at our doggy fashion show at The Princess Theatre! 1st\, 2nd\, and 3rd prizes will be awarded along with a few bonus categories! Raffle items will be available to enter! Doors open at 1:30 pm and the show will begin at 2 pm![/vc_column_text][vc_column_text]Sponsorships available! More info and digital form down below.[/vc_column_text][/vc_column][vc_column width=”1/2″][vc_column_text]Register your pup today! $30 for one pup\, $60 for two pups![/vc_column_text][vc_column_text]Attend the show for only $12! Buy your ticket in support of your favorite Sir Bow-Wow or Lady Barks-A-Lot candidate![/vc_column_text]Dog RegistrationBuy Tickets[/vc_column][/vc_row][vc_row css_animation=”” row_type=”row” use_row_as_full_screen_section=”no” type=”full_width” angled_section=”no” text_align=”left” background_image_as_pattern=”without_pattern”][vc_column width=”1/2″]Sponsorship Info (Levels)Become a Sponsor[/vc_column][vc_column width=”1/2″][vc_single_image image=”6442″ img_size=”medium” alignment=”center” qode_css_animation=””][/vc_column][/vc_row][vc_row css_animation=”” row_type=”row” use_row_as_full_screen_section=”no” type=”full_width” angled_section=”no” text_align=”left” background_image_as_pattern=”without_pattern”][vc_column width=”1/4″][vc_single_image image=”6443″ qode_css_animation=””][/vc_column][vc_column width=”1/4″][vc_single_image image=”6441″ alignment=”center” qode_css_animation=””][/vc_column][vc_column width=”1/4″][vc_single_image image=”6440″ alignment=”center” qode_css_animation=””][/vc_column][vc_column width=”1/4″][vc_single_image image=”6445″ qode_css_animation=””][/vc_column][/vc_row][vc_row css_animation=”” row_type=”row” use_row_as_full_screen_section=”no” type=”full_width” angled_section=”no” text_align=”left” background_image_as_pattern=”without_pattern”][vc_column width=”1/2″][/vc_column][vc_column width=”1/2″][/vc_column][/vc_row]
URL:https://carnegiecarnival.org/event/carnivalstrutyourpawspetfashionshow/
LOCATION:The Princess Theatre\, 112 2nd Avenue NE\, Decatur\, AL\, 35601\, United States
CATEGORIES:Lady Barks-A-Lot,Sir Bow-Wow
ATTACH;FMTTYPE=image/jpeg:https://carnegiecarnival.org/wp-content/uploads/2017/12/event_tn_dogparade2.jpg
END:VEVENT
BEGIN:VEVENT
DTSTART;TZID=America/Chicago:20260201T160000
DTEND;TZID=America/Chicago:20260201T190000
DTSTAMP:20260424T033154
CREATED:20260105T222023Z
LAST-MODIFIED:20260105T222131Z
UID:6189-1769961600-1769972400@carnegiecarnival.org
SUMMARY:Mardi Mahjong with The Jade Table
DESCRIPTION:Join us for Mardi Mahjong with The Jade Table on Sunday\, February 1st from 4:00-7:00 at the Carnegie Visual Arts Center! Beginner friendly. $100/per person for 1 hr mini lesson & 2 hr guided play or $75/per person for 2 hr guided play. This event supports princess candidate Maddie Emma Hensley and prince candidate Gann Faulkner. Proceeds benefit CASA of North Alabama and the Carnegie Visual Arts Center. Go to the Facebook event for more details!
URL:https://carnegiecarnival.org/event/mardi-mahjong-with-the-jade-table/
LOCATION:Carnegie Visual Arts Center\, 207 Church Street\, NE\, Decatur\, AL\, 35601\, United States
CATEGORIES:Prince,Princess
GEO:34.6116295;-86.9820525
X-APPLE-STRUCTURED-LOCATION;VALUE=URI;X-ADDRESS=Carnegie Visual Arts Center 207 Church Street NE Decatur AL 35601 United States;X-APPLE-RADIUS=500;X-TITLE=207 Church Street\, NE:geo:-86.9820525,34.6116295
END:VEVENT
END:VCALENDAR