BEGIN:VCALENDAR
VERSION:2.0
PRODID:-//Carnegie Carnival - ECPv6.2.9//NONSGML v1.0//EN
CALSCALE:GREGORIAN
METHOD:PUBLISH
X-ORIGINAL-URL:https://carnegiecarnival.org
X-WR-CALDESC:Events for Carnegie Carnival
REFRESH-INTERVAL;VALUE=DURATION:PT1H
X-Robots-Tag:noindex
X-PUBLISHED-TTL:PT1H
BEGIN:VTIMEZONE
TZID:America/Chicago
BEGIN:DAYLIGHT
TZOFFSETFROM:-0600
TZOFFSETTO:-0500
TZNAME:CDT
DTSTART:20260308T080000
END:DAYLIGHT
BEGIN:STANDARD
TZOFFSETFROM:-0500
TZOFFSETTO:-0600
TZNAME:CST
DTSTART:20261101T070000
END:STANDARD
END:VTIMEZONE
BEGIN:VEVENT
DTSTART;TZID=America/Chicago:20260129T160000
DTEND;TZID=America/Chicago:20260129T200000
DTSTAMP:20260424T033348
CREATED:20260128T173305Z
LAST-MODIFIED:20260128T173305Z
UID:6437-1769702400-1769716800@carnegiecarnival.org
SUMMARY:Spirit Night at The Brick for Murphy
DESCRIPTION:Come join us Thursday evening for dinner at The Brick and support Princess candidate Murphy Founds! A special art raffle will be provided by Melissa McCullough and Amy Tubbs. Proceeds benefit the Carnegie Visual Arts Center.
URL:https://carnegiecarnival.org/event/spirit-night-at-the-brick-for-murphy/
LOCATION:The Brick Deli\, 112 East Moulton Street\, Decatur\, AL\, 35601\, United States
CATEGORIES:Princess
GEO:34.6041777;-86.9859025
X-APPLE-STRUCTURED-LOCATION;VALUE=URI;X-ADDRESS=The Brick Deli 112 East Moulton Street Decatur AL 35601 United States;X-APPLE-RADIUS=500;X-TITLE=112 East Moulton Street:geo:-86.9859025,34.6041777
END:VEVENT
BEGIN:VEVENT
DTSTART;TZID=America/Chicago:20260129T170000
DTEND;TZID=America/Chicago:20260129T203000
DTSTAMP:20260424T033348
CREATED:20260122T182125Z
LAST-MODIFIED:20260128T030520Z
UID:6412-1769706000-1769718600@carnegiecarnival.org
SUMMARY:Spirit Night at Simp McGhee's
DESCRIPTION:Join us for a delicious way to give back! Come out and enjoy some amazing food from Simp McGhee’s while supporting a great cause! This fundraiser supports Lily Candidate for Lady Barks A Lot and Balto Candidate for Sir Bow Wow. Help them raise money for\nDecatur Animal Services and Carnegie Visual Arts Center. Your dinner plans can make a difference- so grab your friends\, bring the family\, and help us support two great causes all in one night.
URL:https://carnegiecarnival.org/event/spirit-night-at-simp-mcgees/
LOCATION:Simp McGhee’s\, 725 Bank St.\, Decatur\, AL\, 35601\, United States
CATEGORIES:Lady Barks-A-Lot,Sir Bow-Wow
END:VEVENT
BEGIN:VEVENT
DTSTART;TZID=America/Chicago:20260129T183000
DTEND;TZID=America/Chicago:20260129T203000
DTSTAMP:20260424T033348
CREATED:20260115T220801Z
LAST-MODIFIED:20260115T220801Z
UID:6347-1769711400-1769718600@carnegiecarnival.org
SUMMARY:Beer & Wine Tasting with the Merry Widows
DESCRIPTION:Join us for a curated tasting experience led by sommelier Scott Anderson\, featuring a thoughtful selection of wines and beers paired to delight both casual sippers and seasoned enthusiasts alike. Enjoy an evening of learning\, laughter\, and community in the beautiful setting of the Carnegie Visual Arts Center. \n  \nLight hors d’oeuvres will be served to complement the tastings as we gather for great conversation and great pours. All proceeds benefit the Carnegie Visual Arts Center.\nCost $30. Venmo @Ginny-Vinson-1 or pay cash at the door.
URL:https://carnegiecarnival.org/event/beer-wine-tasting-with-the-merry-widows/
LOCATION:Carnegie Visual Arts Center\, 207 Church Street\, NE\, Decatur\, AL\, 35601\, United States
GEO:34.6116295;-86.9820525
X-APPLE-STRUCTURED-LOCATION;VALUE=URI;X-ADDRESS=Carnegie Visual Arts Center 207 Church Street NE Decatur AL 35601 United States;X-APPLE-RADIUS=500;X-TITLE=207 Church Street\, NE:geo:-86.9820525,34.6116295
END:VEVENT
END:VCALENDAR