BEGIN:VCALENDAR
VERSION:2.0
PRODID:-//Carnegie Carnival - ECPv6.2.9//NONSGML v1.0//EN
CALSCALE:GREGORIAN
METHOD:PUBLISH
X-WR-CALNAME:Carnegie Carnival
X-ORIGINAL-URL:https://carnegiecarnival.org
X-WR-CALDESC:Events for Carnegie Carnival
REFRESH-INTERVAL;VALUE=DURATION:PT1H
X-Robots-Tag:noindex
X-PUBLISHED-TTL:PT1H
BEGIN:VTIMEZONE
TZID:America/Chicago
BEGIN:DAYLIGHT
TZOFFSETFROM:-0600
TZOFFSETTO:-0500
TZNAME:CDT
DTSTART:20250309T080000
END:DAYLIGHT
BEGIN:STANDARD
TZOFFSETFROM:-0500
TZOFFSETTO:-0600
TZNAME:CST
DTSTART:20251102T070000
END:STANDARD
END:VTIMEZONE
BEGIN:VEVENT
DTSTART;TZID=America/Chicago:20250223T123000
DTEND;TZID=America/Chicago:20250223T150000
DTSTAMP:20260425T165054
CREATED:20250126T150133Z
LAST-MODIFIED:20250216T211547Z
UID:5765-1740313800-1740322800@carnegiecarnival.org
SUMMARY:Gospel Brunch with Cheyenne
DESCRIPTION:Join us for an uplifting Gospel Brunch featuring Pat Jamar & Lamont Landers while enjoying a delicious plated meal at Burningtree Country Club.\n Date: February 23 Brunch Served: 12:30 PM Entertainment Begins: 1:00 PM Tickets: $30\nProceeds benefit the Carnegie Visual Arts Center in support of Cheyenne for Carnegie Queen.\nCome experience a soulful afternoon filled with music\, community\, and great food—all while supporting the arts!We look forward to seeing you there! Please RSVP & Purchase your ticket in advance!
URL:https://carnegiecarnival.org/event/gospel-brunch-with-cheyenne/
LOCATION:Burningtree Country Club\, 2521 Burningtree Dr. SE\, Decatur\, AL\, 35603
CATEGORIES:Queen
END:VEVENT
BEGIN:VEVENT
DTSTART;TZID=America/Chicago:20250223T160000
DTEND;TZID=America/Chicago:20250223T190000
DTSTAMP:20260425T165054
CREATED:20250217T183649Z
LAST-MODIFIED:20250217T183649Z
UID:5926-1740326400-1740337200@carnegiecarnival.org
SUMMARY:Josie's Spirit Night with Stella
DESCRIPTION:It’s Stela’s last event and we want to make it big for her to win queen!!! All raffles will be drawn at 6:30pm.
URL:https://carnegiecarnival.org/event/josies-spirit-night-with-stella/
LOCATION:Josie’s\, 109 2nd Ave NE\, Decatur\, AL\, 35601\, United States
CATEGORIES:Lady Barks-A-Lot
END:VEVENT
END:VCALENDAR