BEGIN:VCALENDAR
VERSION:2.0
PRODID:-//Carnegie Carnival - ECPv6.2.9//NONSGML v1.0//EN
CALSCALE:GREGORIAN
METHOD:PUBLISH
X-ORIGINAL-URL:https://carnegiecarnival.org
X-WR-CALDESC:Events for Carnegie Carnival
REFRESH-INTERVAL;VALUE=DURATION:PT1H
X-Robots-Tag:noindex
X-PUBLISHED-TTL:PT1H
BEGIN:VTIMEZONE
TZID:America/Chicago
BEGIN:DAYLIGHT
TZOFFSETFROM:-0600
TZOFFSETTO:-0500
TZNAME:CDT
DTSTART:20250309T080000
END:DAYLIGHT
BEGIN:STANDARD
TZOFFSETFROM:-0500
TZOFFSETTO:-0600
TZNAME:CST
DTSTART:20251102T070000
END:STANDARD
END:VTIMEZONE
BEGIN:VEVENT
DTSTART;TZID=America/Chicago:20250222T080000
DTEND;TZID=America/Chicago:20250222T170000
DTSTAMP:20260425T165057
CREATED:20250126T151234Z
LAST-MODIFIED:20250126T151234Z
UID:5767-1740211200-1740243600@carnegiecarnival.org
SUMMARY:2025 Skeet Shoot with Nancy
DESCRIPTION:Join us for 2025 CVAC Charity Skeet Shoot and Bar-B-Que Lunch to Support the Carnegie Visual Arts Center and Nancy Case’s Queen Run for Carnegie Carnival 2025!!This event is limited to no more than 10 teams/40 total shooters.$125.00 Donation per shooter. Special Raffles and Prizes will be held at the event.Put together your team of 4 shooters\, or join as an individual shooter to be paired with others.Each team will shoot 100 Targets\, plus warm-up targets.Trophies will be awarded to the top three teams on the Lewis-Class System Scoring.Whitt’s Bar-B-Que will be served at noon. If you don’t want to shoot\, register to join us for lunch only ($15 donation) to enjoy Whitt’s award winning bar-b-que and support your shooters and the CVAC.Make your checks payable to CVAC and mail to Attn: Phil D. Mitchell\, PO Box 2688\, Decatur\, Al 35602. Contact Phil at pmitchell@harriscaddell.com or 256-566-3854 to register your team and obtain your shooting time.
URL:https://carnegiecarnival.org/event/2025-skeet-shoot-with-nancy/
LOCATION:Skeet Shoot\, 444 Kenny Clay Rd\, Somerville\, 35670\, United States
CATEGORIES:Queen
END:VEVENT
BEGIN:VEVENT
DTSTART;TZID=America/Chicago:20250222T110000
DTEND;TZID=America/Chicago:20250222T160000
DTSTAMP:20260425T165057
CREATED:20250119T184621Z
LAST-MODIFIED:20250121T133453Z
UID:5686-1740222000-1740240000@carnegiecarnival.org
SUMMARY:Brick Deli Spirit Day with Parker
DESCRIPTION:Come enjoy a delicious sandwich or salad at the legendary Brick Deli!
URL:https://carnegiecarnival.org/event/brick-deli-spirit-day-with-parker/
LOCATION:The Brick Deli\, 112 East Moulton Street\, Decatur\, AL\, 35601\, United States
CATEGORIES:Prince
GEO:34.6041777;-86.9859025
X-APPLE-STRUCTURED-LOCATION;VALUE=URI;X-ADDRESS=The Brick Deli 112 East Moulton Street Decatur AL 35601 United States;X-APPLE-RADIUS=500;X-TITLE=112 East Moulton Street:geo:-86.9859025,34.6041777
END:VEVENT
BEGIN:VEVENT
DTSTART;TZID=America/Chicago:20250222T170000
DTEND;TZID=America/Chicago:20250222T200000
DTSTAMP:20260425T165057
CREATED:20241229T223205Z
LAST-MODIFIED:20250126T145647Z
UID:5436-1740243600-1740254400@carnegiecarnival.org
SUMMARY:Murder Mystery
DESCRIPTION:Join us at Banksy Event Venue (Decatur’s newest venue) to support Nancy Case for Carnegie Queen and the Carnegie Visual Arts Center. Tickets must be PURCHASED IN ADVANCE. Once you purchase tickets\, you will be given a website to pick your character. It’s gonna be a CIRCUS!!!! $55.00 per person!!!\n\nTHEME: Determined to elevate his circus from a modest dog-and-pony show to a grand spectacle that could rival Ringling\, Harry’s relentless efforts to captivate audiences and introduce dazzling attractions have sparked fierce rivalries that stretch beyond the center ring.\n\nAs tensions rise\, a shocking murder takes center stage…and it’s up to you to solve the mystery before the final curtain falls.Could it have been the furious ringmaster\, desperate to restore order to the spectacle?\nThe skilled tightrope walker\, whose tumble from grace cost them the spotlight?\nA disgruntled roustabout\, driven by a thirst for revenge?Or perhaps a possessive performer\, whose daredevil nature finally pushed the limits too far…\nOnce you sign up for this event\, you will be sent an email to choose your character. Choose wisely\, don your costume. Will you be the VICTIM OR THE MURDERER?
URL:https://carnegiecarnival.org/event/murder-mystery/
LOCATION:Banksy Event Venue\, 719 Bank St NE STE B\, Decatur\, 35601\, United States
CATEGORIES:Queen
END:VEVENT
BEGIN:VEVENT
DTSTART;TZID=America/Chicago:20250222T180000
DTEND;TZID=America/Chicago:20250222T200000
DTSTAMP:20260425T165057
CREATED:20250115T124907Z
LAST-MODIFIED:20250213T000138Z
UID:5652-1740247200-1740254400@carnegiecarnival.org
SUMMARY:Lip Sync Smackdown with Taylor
DESCRIPTION:Come out and show off your lip-syncing abilities!
URL:https://carnegiecarnival.org/event/lip-sync-smackdown-with-taylor/
LOCATION:The Brick Deli\, 112 East Moulton Street\, Decatur\, AL\, 35601\, United States
CATEGORIES:King
GEO:34.6041777;-86.9859025
X-APPLE-STRUCTURED-LOCATION;VALUE=URI;X-ADDRESS=The Brick Deli 112 East Moulton Street Decatur AL 35601 United States;X-APPLE-RADIUS=500;X-TITLE=112 East Moulton Street:geo:-86.9859025,34.6041777
END:VEVENT
END:VCALENDAR