BEGIN:VCALENDAR
VERSION:2.0
PRODID:-//Carnegie Carnival - ECPv6.2.9//NONSGML v1.0//EN
CALSCALE:GREGORIAN
METHOD:PUBLISH
X-ORIGINAL-URL:https://carnegiecarnival.org
X-WR-CALDESC:Events for Carnegie Carnival
REFRESH-INTERVAL;VALUE=DURATION:PT1H
X-Robots-Tag:noindex
X-PUBLISHED-TTL:PT1H
BEGIN:VTIMEZONE
TZID:America/Chicago
BEGIN:DAYLIGHT
TZOFFSETFROM:-0600
TZOFFSETTO:-0500
TZNAME:CDT
DTSTART:20250309T080000
END:DAYLIGHT
BEGIN:STANDARD
TZOFFSETFROM:-0500
TZOFFSETTO:-0600
TZNAME:CST
DTSTART:20251102T070000
END:STANDARD
END:VTIMEZONE
BEGIN:VEVENT
DTSTART;TZID=America/Chicago:20250217T180000
DTEND;TZID=America/Chicago:20250217T210000
DTSTAMP:20260425T165101
CREATED:20250119T191626Z
LAST-MODIFIED:20250202T221739Z
UID:5688-1739815200-1739826000@carnegiecarnival.org
SUMMARY:Las Vias Spirit Night with Stella
DESCRIPTION:Come out and support Stella for Lady Barks-A-Lot\nHave some awesome raffles!!!
URL:https://carnegiecarnival.org/event/las-vias-spirit-night-with-stella/
LOCATION:Las Vias on the Beltline\, 1000 Beltline Rd SW\, Ste Q\, Decatur\, 35601\, United States
CATEGORIES:Lady Barks-A-Lot
END:VEVENT
END:VCALENDAR