BEGIN:VCALENDAR
VERSION:2.0
PRODID:-//Carnegie Carnival - ECPv6.2.9//NONSGML v1.0//EN
CALSCALE:GREGORIAN
METHOD:PUBLISH
X-WR-CALNAME:Carnegie Carnival
X-ORIGINAL-URL:https://carnegiecarnival.org
X-WR-CALDESC:Events for Carnegie Carnival
REFRESH-INTERVAL;VALUE=DURATION:PT1H
X-Robots-Tag:noindex
X-PUBLISHED-TTL:PT1H
BEGIN:VTIMEZONE
TZID:America/Chicago
BEGIN:DAYLIGHT
TZOFFSETFROM:-0600
TZOFFSETTO:-0500
TZNAME:CDT
DTSTART:20250309T080000
END:DAYLIGHT
BEGIN:STANDARD
TZOFFSETFROM:-0500
TZOFFSETTO:-0600
TZNAME:CST
DTSTART:20251102T070000
END:STANDARD
END:VTIMEZONE
BEGIN:VEVENT
DTSTART;TZID=America/Chicago:20250216T140000
DTEND;TZID=America/Chicago:20250216T160000
DTSTAMP:20260425T165054
CREATED:20250114T005120Z
LAST-MODIFIED:20250114T005120Z
UID:5611-1739714400-1739721600@carnegiecarnival.org
SUMMARY:Meet Glinda the Good Witch
DESCRIPTION:Kids can meet Glinda and have a snack and craftBenefits CASA and The Carnegie Visual Arts Center
URL:https://carnegiecarnival.org/event/meet-glinda-the-good-witch/
LOCATION:Carnegie Visual Arts Center\, 207 Church Street\, NE\, Decatur\, AL\, 35601\, United States
CATEGORIES:Princess
GEO:34.6116295;-86.9820525
X-APPLE-STRUCTURED-LOCATION;VALUE=URI;X-ADDRESS=Carnegie Visual Arts Center 207 Church Street NE Decatur AL 35601 United States;X-APPLE-RADIUS=500;X-TITLE=207 Church Street\, NE:geo:-86.9820525,34.6116295
END:VEVENT
BEGIN:VEVENT
DTSTART;TZID=America/Chicago:20250216T160000
DTEND;TZID=America/Chicago:20250216T190000
DTSTAMP:20260425T165054
CREATED:20250131T003255Z
LAST-MODIFIED:20250202T215941Z
UID:5825-1739721600-1739732400@carnegiecarnival.org
SUMMARY:Albany District Walking Tour
DESCRIPTION:Come and join us for a Spirit Day at Moe’s BBQ downtown from 3pm until 6pm and stay for the walking tour with John Allison as he guides us and regales us with tales of the district.Tickets for the tour are $10 each.Venmo: @Nancy-Case-11PayPal: nmcase@aol.comBe sure to include your name and “Albany”.
URL:https://carnegiecarnival.org/event/moes-bbq-albany-district-walking-tour/
LOCATION:Moe’s BBQ Decatur\, Decatur\, AL\, 35601\, United States
CATEGORIES:Queen
END:VEVENT
END:VCALENDAR