BEGIN:VCALENDAR
VERSION:2.0
PRODID:-//Carnegie Carnival - ECPv6.2.9//NONSGML v1.0//EN
CALSCALE:GREGORIAN
METHOD:PUBLISH
X-WR-CALNAME:Carnegie Carnival
X-ORIGINAL-URL:https://carnegiecarnival.org
X-WR-CALDESC:Events for Carnegie Carnival
REFRESH-INTERVAL;VALUE=DURATION:PT1H
X-Robots-Tag:noindex
X-PUBLISHED-TTL:PT1H
BEGIN:VTIMEZONE
TZID:America/Chicago
BEGIN:DAYLIGHT
TZOFFSETFROM:-0600
TZOFFSETTO:-0500
TZNAME:CDT
DTSTART:20250309T080000
END:DAYLIGHT
BEGIN:STANDARD
TZOFFSETFROM:-0500
TZOFFSETTO:-0600
TZNAME:CST
DTSTART:20251102T070000
END:STANDARD
END:VTIMEZONE
BEGIN:VEVENT
DTSTART;TZID=America/Chicago:20250213T170000
DTEND;TZID=America/Chicago:20250213T200000
DTSTAMP:20260425T165053
CREATED:20250114T233912Z
LAST-MODIFIED:20250114T233957Z
UID:5631-1739466000-1739476800@carnegiecarnival.org
SUMMARY:Brick Deli Spirit Night with Stella
DESCRIPTION:Please come out and support Stella for Spirit Night at Brick Deli! Will be selling Bandanas for your fur animals! Going to have some PaWsome good raffles too!\n*Dog Training Sessions with David Steinberg!\n*Massages with Dee\n*Dog Wagon\n*Bottle of Liquor and so much more!!!\nGoing to be a fun night!!!
URL:https://carnegiecarnival.org/event/5631/
LOCATION:The Brick Deli\, 112 East Moulton Street\, Decatur\, AL\, 35601\, United States
CATEGORIES:Lady Barks-A-Lot
GEO:34.6041777;-86.9859025
X-APPLE-STRUCTURED-LOCATION;VALUE=URI;X-ADDRESS=The Brick Deli 112 East Moulton Street Decatur AL 35601 United States;X-APPLE-RADIUS=500;X-TITLE=112 East Moulton Street:geo:-86.9859025,34.6041777
END:VEVENT
BEGIN:VEVENT
DTSTART;TZID=America/Chicago:20250213T170000
DTEND;TZID=America/Chicago:20250213T200000
DTSTAMP:20260425T165053
CREATED:20250205T000504Z
LAST-MODIFIED:20250205T000504Z
UID:5855-1739466000-1739476800@carnegiecarnival.org
SUMMARY:Simp McGhee's FUR Hector
DESCRIPTION:Come dine at Simp McGhee’s FUR Hector for Carnegie Sir Bow Wow from 5p-8p on February 13th!\nEnjoy delicious cuisine FUR Carnegie Carnival-make sure to mention Hector!\nWe’ll have our Mardi Gras ducks\, stickers and raffle tickets available so come spread the love for the arts and the animals-make it an early Valentine’s Day celebration!\nSee you there!
URL:https://carnegiecarnival.org/event/simp-mcghees-fur-hector/
LOCATION:Simp McGhee’s\, 725 Bank St.\, Decatur\, AL\, 35601\, United States
CATEGORIES:Sir Bow-Wow
END:VEVENT
BEGIN:VEVENT
DTSTART;TZID=America/Chicago:20250213T173000
DTEND;TZID=America/Chicago:20250213T203000
DTSTAMP:20260425T165053
CREATED:20250202T221932Z
LAST-MODIFIED:20250202T221939Z
UID:5841-1739467800-1739478600@carnegiecarnival.org
SUMMARY:Singo Bingo with Parker
DESCRIPTION:Meet me at Kimmie’s Feb 13th for Singo and delicious food! All proceeds benefit CASA & Carnegie Carnival Prince & Princess Candidate Events CASA of North Alabama Carnegie Visual Arts Center. I hope to see you there!
URL:https://carnegiecarnival.org/event/singo-bingo-with-parker/
LOCATION:Kimmie’s Kitchen & Social House\, 107 2nd Ave Suite A\, Decatur\, 35601\, United States
CATEGORIES:Prince
END:VEVENT
BEGIN:VEVENT
DTSTART;TZID=America/Chicago:20250213T190000
DTEND;TZID=America/Chicago:20250213T210000
DTSTAMP:20260425T165053
CREATED:20250119T184004Z
LAST-MODIFIED:20250119T184004Z
UID:5677-1739473200-1739480400@carnegiecarnival.org
SUMMARY:Harris Valentine Gram
DESCRIPTION:What are you getting for your Valentine??  How about a Valentine Gram delivered by Harris Penley?! Thank you to Simpson’s Florist for your donation! Thank you for supporting Harris Penley for CASA/ Carnegie Prince!!! See details below.
URL:https://carnegiecarnival.org/event/harris-valentine-gram/2025-02-13/
CATEGORIES:Prince
END:VEVENT
END:VCALENDAR