BEGIN:VCALENDAR
VERSION:2.0
PRODID:-//Carnegie Carnival - ECPv6.2.9//NONSGML v1.0//EN
CALSCALE:GREGORIAN
METHOD:PUBLISH
X-WR-CALNAME:Carnegie Carnival
X-ORIGINAL-URL:https://carnegiecarnival.org
X-WR-CALDESC:Events for Carnegie Carnival
REFRESH-INTERVAL;VALUE=DURATION:PT1H
X-Robots-Tag:noindex
X-PUBLISHED-TTL:PT1H
BEGIN:VTIMEZONE
TZID:America/Chicago
BEGIN:DAYLIGHT
TZOFFSETFROM:-0600
TZOFFSETTO:-0500
TZNAME:CDT
DTSTART:20250309T080000
END:DAYLIGHT
BEGIN:STANDARD
TZOFFSETFROM:-0500
TZOFFSETTO:-0600
TZNAME:CST
DTSTART:20251102T070000
END:STANDARD
END:VTIMEZONE
BEGIN:VEVENT
DTSTART;TZID=America/Chicago:20250211T160000
DTEND;TZID=America/Chicago:20250211T210000
DTSTAMP:20260425T165054
CREATED:20250126T145803Z
LAST-MODIFIED:20250209T220959Z
UID:5757-1739289600-1739307600@carnegiecarnival.org
SUMMARY:El Portal Spirit Night with Trae
DESCRIPTION:Please come out and enjoy Taco Tuesday with us at El Portal by Walmart. All proceeds go to CASA and Carnegie.
URL:https://carnegiecarnival.org/event/el-portal-spirit-night-with-trae/
LOCATION:El Portal #2\, 1315 US-31\, Hartselle\, AL\, 35640\, United States
CATEGORIES:Prince
END:VEVENT
BEGIN:VEVENT
DTSTART;TZID=America/Chicago:20250211T180000
DTEND;TZID=America/Chicago:20250211T200000
DTSTAMP:20260425T165054
CREATED:20250209T220605Z
LAST-MODIFIED:20250209T220605Z
UID:5868-1739296800-1739304000@carnegiecarnival.org
SUMMARY:Bank Street Grill Spirit Night with Nancy
DESCRIPTION:
URL:https://carnegiecarnival.org/event/bank-street-grill-spirit-night-with-nancy-2/
LOCATION:Bank Street Grill\, 719 Bank St NE\, Decatur\, AL\, 35601\, United States
CATEGORIES:Queen
GEO:34.612892;-86.9853784
X-APPLE-STRUCTURED-LOCATION;VALUE=URI;X-ADDRESS=Bank Street Grill 719 Bank St NE Decatur AL 35601 United States;X-APPLE-RADIUS=500;X-TITLE=719 Bank St NE:geo:-86.9853784,34.612892
END:VEVENT
BEGIN:VEVENT
DTSTART;TZID=America/Chicago:20250211T190000
DTEND;TZID=America/Chicago:20250211T210000
DTSTAMP:20260425T165054
CREATED:20250119T184004Z
LAST-MODIFIED:20250119T184004Z
UID:5675-1739300400-1739307600@carnegiecarnival.org
SUMMARY:Harris Valentine Gram
DESCRIPTION:What are you getting for your Valentine??  How about a Valentine Gram delivered by Harris Penley?! Thank you to Simpson’s Florist for your donation! Thank you for supporting Harris Penley for CASA/ Carnegie Prince!!! See details below.
URL:https://carnegiecarnival.org/event/harris-valentine-gram/2025-02-11/
CATEGORIES:Prince
END:VEVENT
END:VCALENDAR