BEGIN:VCALENDAR
VERSION:2.0
PRODID:-//Carnegie Carnival - ECPv6.2.9//NONSGML v1.0//EN
CALSCALE:GREGORIAN
METHOD:PUBLISH
X-ORIGINAL-URL:https://carnegiecarnival.org
X-WR-CALDESC:Events for Carnegie Carnival
REFRESH-INTERVAL;VALUE=DURATION:PT1H
X-Robots-Tag:noindex
X-PUBLISHED-TTL:PT1H
BEGIN:VTIMEZONE
TZID:America/Chicago
BEGIN:DAYLIGHT
TZOFFSETFROM:-0600
TZOFFSETTO:-0500
TZNAME:CDT
DTSTART:20250309T080000
END:DAYLIGHT
BEGIN:STANDARD
TZOFFSETFROM:-0500
TZOFFSETTO:-0600
TZNAME:CST
DTSTART:20251102T070000
END:STANDARD
END:VTIMEZONE
BEGIN:VEVENT
DTSTART;TZID=America/Chicago:20250208T110000
DTEND;TZID=America/Chicago:20250208T140000
DTSTAMP:20260425T165100
CREATED:20250130T015749Z
LAST-MODIFIED:20250130T015749Z
UID:5787-1739012400-1739023200@carnegiecarnival.org
SUMMARY:Bank Street Grill Spirit Brunch
DESCRIPTION:Come on down to Bank Street Grill for a great brunch and show your support for Nancy Case for Queen XIV!Be sure to check out all the raffles while you’re there!
URL:https://carnegiecarnival.org/event/bank-street-grill-spirit-brunch/
LOCATION:Bank Street Grill\, 719 Bank St NE\, Decatur\, AL\, 35601\, United States
CATEGORIES:Queen
GEO:34.612892;-86.9853784
X-APPLE-STRUCTURED-LOCATION;VALUE=URI;X-ADDRESS=Bank Street Grill 719 Bank St NE Decatur AL 35601 United States;X-APPLE-RADIUS=500;X-TITLE=719 Bank St NE:geo:-86.9853784,34.612892
END:VEVENT
BEGIN:VEVENT
DTSTART;TZID=America/Chicago:20250208T110000
DTEND;TZID=America/Chicago:20250208T160000
DTSTAMP:20260425T165100
CREATED:20250131T002652Z
LAST-MODIFIED:20250131T002652Z
UID:5814-1739012400-1739030400@carnegiecarnival.org
SUMMARY:Pre-Super Bowl Spirit Day at the Brick
DESCRIPTION:Join us for a PRE-Super Bowl Spirit Day at The Brick to support Harris Penley for CASA/Carnegie Prince CASA & Carnegie Carnival Prince & Princess Candidate EventsSee details below!! Thank you for your support!!!
URL:https://carnegiecarnival.org/event/pre-super-bowl-spirit-day-at-the-brick/
CATEGORIES:Prince
END:VEVENT
BEGIN:VEVENT
DTSTART;TZID=America/Chicago:20250208T160000
DTEND;TZID=America/Chicago:20250208T220000
DTSTAMP:20260425T165100
CREATED:20250120T174351Z
LAST-MODIFIED:20250120T174351Z
UID:5698-1739030400-1739052000@carnegiecarnival.org
SUMMARY:Brick Deli Spirit Night with Jackson
DESCRIPTION:Come on out for great food and a fun time at the Brick for Spirit night on Saturday 2-8 beginning at 4! Proceeds benefit Carnegie and CASA of North Alabama and Jackson Stephens for Carnegie Prince!
URL:https://carnegiecarnival.org/event/brick-deli-spirit-night-with-jackson/
LOCATION:The Brick Deli\, 112 East Moulton Street\, Decatur\, AL\, 35601\, United States
CATEGORIES:Prince
GEO:34.6041777;-86.9859025
X-APPLE-STRUCTURED-LOCATION;VALUE=URI;X-ADDRESS=The Brick Deli 112 East Moulton Street Decatur AL 35601 United States;X-APPLE-RADIUS=500;X-TITLE=112 East Moulton Street:geo:-86.9859025,34.6041777
END:VEVENT
BEGIN:VEVENT
DTSTART;TZID=America/Chicago:20250208T170000
DTEND;TZID=America/Chicago:20250208T200000
DTSTAMP:20260425T165100
CREATED:20250126T145150Z
LAST-MODIFIED:20250126T145150Z
UID:5732-1739034000-1739044800@carnegiecarnival.org
SUMMARY:Bank Street Grill Spirit Night with Trae
DESCRIPTION:
URL:https://carnegiecarnival.org/event/bank-street-grill-spirit-night-with-trae/
LOCATION:Bank Street Grill\, 719 Bank St NE\, Decatur\, AL\, 35601\, United States
CATEGORIES:Prince
GEO:34.612892;-86.9853784
X-APPLE-STRUCTURED-LOCATION;VALUE=URI;X-ADDRESS=Bank Street Grill 719 Bank St NE Decatur AL 35601 United States;X-APPLE-RADIUS=500;X-TITLE=719 Bank St NE:geo:-86.9853784,34.612892
END:VEVENT
END:VCALENDAR