BEGIN:VCALENDAR
VERSION:2.0
PRODID:-//Carnegie Carnival - ECPv6.2.9//NONSGML v1.0//EN
CALSCALE:GREGORIAN
METHOD:PUBLISH
X-ORIGINAL-URL:https://carnegiecarnival.org
X-WR-CALDESC:Events for Carnegie Carnival
REFRESH-INTERVAL;VALUE=DURATION:PT1H
X-Robots-Tag:noindex
X-PUBLISHED-TTL:PT1H
BEGIN:VTIMEZONE
TZID:America/Chicago
BEGIN:DAYLIGHT
TZOFFSETFROM:-0600
TZOFFSETTO:-0500
TZNAME:CDT
DTSTART:20250309T080000
END:DAYLIGHT
BEGIN:STANDARD
TZOFFSETFROM:-0500
TZOFFSETTO:-0600
TZNAME:CST
DTSTART:20251102T070000
END:STANDARD
END:VTIMEZONE
BEGIN:VEVENT
DTSTART;TZID=America/Chicago:20250207T080000
DTEND;TZID=America/Chicago:20250207T150000
DTSTAMP:20260425T165059
CREATED:20250126T144418Z
LAST-MODIFIED:20250126T144449Z
UID:5725-1738915200-1738940400@carnegiecarnival.org
SUMMARY:Indoor Rummage Sale with Addison
DESCRIPTION:Friday February 7Saturday February 88:00 am – 3:00 pm
URL:https://carnegiecarnival.org/event/indoor-rummage-sale/
LOCATION:Somerville Community Center\, 48 Main Street\, Somerville\, 35670\, United States
CATEGORIES:Princess
END:VEVENT
BEGIN:VEVENT
DTSTART;TZID=America/Chicago:20250207T190000
DTEND;TZID=America/Chicago:20250207T220000
DTSTAMP:20260425T165059
CREATED:20240117T194140Z
LAST-MODIFIED:20250207T000135Z
UID:5050-1738954800-1738965600@carnegiecarnival.org
SUMMARY:NEW LOCATION- Drag Queen Bingo
DESCRIPTION:Hear ye\, hear ye!!!\nThe event you have all been waiting for…Drag Queen Bingo hosted by Kristin Orlando.\nNEW LOCATION: Join us at The Magnolia Room\, 216 Moulton St E\, Decatur\, AL 35601 on Feb 7th\, 7-10 pm  (doors open at 6:30 pm) as The Queens have officially arrived! Seats are limited so reserve yours today!\n$25 Admission (includes 3 cards)\n$250 Reserved Table (includes 8 admissions and 24 cards)\nReservation deadline Midnight February 5.\nCash Bar. Additional cards 3/$10\nBe sure to comment “BINGO” and how many tickets you would like and payment can be made below.\nFor Tickets & Reservations contact Taylor Martin\nVenmo- @brannontaylor
URL:https://carnegiecarnival.org/event/drag-queen-bingo/
LOCATION:The Magnolia Room\, 216 Moulton Street E\, Decatur\, AL\, 35601\, United States
CATEGORIES:King
ATTACH;FMTTYPE=image/jpeg:https://carnegiecarnival.org/wp-content/uploads/2018/01/event_tn_king.jpg
GEO:34.6041501;-86.9843329
X-APPLE-STRUCTURED-LOCATION;VALUE=URI;X-ADDRESS=DESCRIPTION:Hear ye hear ye!!!\nThe event you have all been waiting for…Drag Queen Bingo hosted by Kristin Orlando.\nNEW  Join us at The Magnolia Room 216 Moulton St E Decatur AL 35601 on Feb 7th 7-10 pm  (doors open at 6:30 pm) as The Queens have officially arrived! Seats are limited so reserve yours today!\n$25 Admission (includes 3 cards)\n$250 Reserved Table (includes 8 admissions and 24 cards)\nReservation deadline Midnight February 5.\nCash Bar. Additional cards 3/$10\nBe sure to comment “BINGO” and how many tickets you would like and payment can be made below.\nFor Tickets & Reservations contact Taylor Martin\nVenmo- @brannontaylor;X-APPLE-RADIUS=500;X-TITLE=216 Moulton Street E:geo:-86.9843329,34.6041501
END:VEVENT
END:VCALENDAR