BEGIN:VCALENDAR
VERSION:2.0
PRODID:-//Carnegie Carnival - ECPv6.2.9//NONSGML v1.0//EN
CALSCALE:GREGORIAN
METHOD:PUBLISH
X-ORIGINAL-URL:https://carnegiecarnival.org
X-WR-CALDESC:Events for Carnegie Carnival
REFRESH-INTERVAL;VALUE=DURATION:PT1H
X-Robots-Tag:noindex
X-PUBLISHED-TTL:PT1H
BEGIN:VTIMEZONE
TZID:America/Chicago
BEGIN:DAYLIGHT
TZOFFSETFROM:-0600
TZOFFSETTO:-0500
TZNAME:CDT
DTSTART:20250309T080000
END:DAYLIGHT
BEGIN:STANDARD
TZOFFSETFROM:-0500
TZOFFSETTO:-0600
TZNAME:CST
DTSTART:20251102T070000
END:STANDARD
END:VTIMEZONE
BEGIN:VEVENT
DTSTART;TZID=America/Chicago:20250201T100000
DTEND;TZID=America/Chicago:20250201T150000
DTSTAMP:20260425T165059
CREATED:20250131T002543Z
LAST-MODIFIED:20250131T002543Z
UID:5812-1738404000-1738422000@carnegiecarnival.org
SUMMARY:Brick Saturday Food & Raffle with Ella
DESCRIPTION:Join us Saturday at the brick for amazing food and a great time! There will be multiple opportunities to win some great raffles 
URL:https://carnegiecarnival.org/event/brick-saturday-food-raffle-with-ella/
LOCATION:The Brick Deli\, 112 East Moulton Street\, Decatur\, AL\, 35601\, United States
CATEGORIES:Princess
GEO:34.6041777;-86.9859025
X-APPLE-STRUCTURED-LOCATION;VALUE=URI;X-ADDRESS=The Brick Deli 112 East Moulton Street Decatur AL 35601 United States;X-APPLE-RADIUS=500;X-TITLE=112 East Moulton Street:geo:-86.9859025,34.6041777
END:VEVENT
BEGIN:VEVENT
DTSTART;TZID=America/Chicago:20250201T110000
DTEND;TZID=America/Chicago:20250201T140000
DTSTAMP:20260425T165059
CREATED:20250114T234315Z
LAST-MODIFIED:20250126T144103Z
UID:5634-1738407600-1738418400@carnegiecarnival.org
SUMMARY:Paw Print Hearts FUR Hector for Carnegie Sir Bow Wow
DESCRIPTION:We all know our pups hold our hearts; come make a permanent record of it! \nWe will use air dry clay to capture a heart shaped ornament featuring your pup’s paw! \nCost is $15\, please RSVP to help gauge supply needs! \nDrop in between 11a and 2p to make your pup’s art. \nAttendees will go home with completed heart on a heart paper plate and a ribbon as the clay takes a few days to dry. \nOnce dry\, you’ll have a beautiful keepsake for years to come! \nThey will be dry in plenty of time for Valentine’s so they are a PAWfect present! \n 
URL:https://carnegiecarnival.org/event/paw-print-hearts-fur-hector-for-carnegie-sir-bow-wow/
LOCATION:Carnegie Visual Arts Center\, 207 Church Street\, NE\, Decatur\, AL\, 35601\, United States
CATEGORIES:Sir Bow-Wow
GEO:34.6116295;-86.9820525
X-APPLE-STRUCTURED-LOCATION;VALUE=URI;X-ADDRESS=Carnegie Visual Arts Center 207 Church Street NE Decatur AL 35601 United States;X-APPLE-RADIUS=500;X-TITLE=207 Church Street\, NE:geo:-86.9820525,34.6116295
END:VEVENT
BEGIN:VEVENT
DTSTART;TZID=America/Chicago:20250201T120000
DTEND;TZID=America/Chicago:20250201T150000
DTSTAMP:20260425T165059
CREATED:20250101T195357Z
LAST-MODIFIED:20250101T195357Z
UID:5457-1738411200-1738422000@carnegiecarnival.org
SUMMARY:Build Your Own Sunglasses
DESCRIPTION:Join us at Urban Atlas for a Build Your Own Sunglasses event benefitting Addison Graham for Carnegie Princess  $14 for unlimited sunglass design possibilities. Photos of previous glasses will be posted for inspiration closer to the event!
URL:https://carnegiecarnival.org/event/build-your-own-sunglasses/
LOCATION:Urban Atlas\, 219A 2nd Ave\, Decatur\, 35601\, United States
CATEGORIES:Princess
END:VEVENT
BEGIN:VEVENT
DTSTART;TZID=America/Chicago:20250201T160000
DTEND;TZID=America/Chicago:20250201T200000
DTSTAMP:20260425T165059
CREATED:20250109T014238Z
LAST-MODIFIED:20250109T014238Z
UID:5550-1738425600-1738440000@carnegiecarnival.org
SUMMARY:Brick Deli Spirit Night with Addison
DESCRIPTION:Join me on Saturday\, February 1 at The Brick Deli on Moulton Street in Downtown Decatur from 4:00 – 8:00 PM. I will have raffles set up for purchase.
URL:https://carnegiecarnival.org/event/brick-deli-spirit-night-with-addison/
LOCATION:The Brick Deli\, 112 East Moulton Street\, Decatur\, AL\, 35601\, United States
CATEGORIES:Princess
GEO:34.6041777;-86.9859025
X-APPLE-STRUCTURED-LOCATION;VALUE=URI;X-ADDRESS=The Brick Deli 112 East Moulton Street Decatur AL 35601 United States;X-APPLE-RADIUS=500;X-TITLE=112 East Moulton Street:geo:-86.9859025,34.6041777
END:VEVENT
BEGIN:VEVENT
DTSTART;TZID=America/Chicago:20250201T170000
DTEND;TZID=America/Chicago:20250201T200000
DTSTAMP:20260425T165059
CREATED:20250115T005518Z
LAST-MODIFIED:20250121T173053Z
UID:5638-1738429200-1738440000@carnegiecarnival.org
SUMMARY:Art Skull Auction for Nancy Case
DESCRIPTION:Join us for an evening of Art. Local artists have adorned skulls with their special touch. VIP access at 5:00pm with cocktails and appetizers. General admission at 5:30pm. Virtual and Live Auction begins at 6:00pm. VIP tickets $15. venmo: @nancy-case-11 or paypal: nmcase@aol.com
URL:https://carnegiecarnival.org/event/art-auction-for-nancy-case/
LOCATION:Carnegie Visual Arts Center\, 207 Church Street\, NE\, Decatur\, AL\, 35601\, United States
CATEGORIES:Queen
GEO:34.6116295;-86.9820525
X-APPLE-STRUCTURED-LOCATION;VALUE=URI;X-ADDRESS=Carnegie Visual Arts Center 207 Church Street NE Decatur AL 35601 United States;X-APPLE-RADIUS=500;X-TITLE=207 Church Street\, NE:geo:-86.9820525,34.6116295
END:VEVENT
END:VCALENDAR