BEGIN:VCALENDAR
VERSION:2.0
PRODID:-//Carnegie Carnival - ECPv6.2.9//NONSGML v1.0//EN
CALSCALE:GREGORIAN
METHOD:PUBLISH
X-WR-CALNAME:Carnegie Carnival
X-ORIGINAL-URL:https://carnegiecarnival.org
X-WR-CALDESC:Events for Carnegie Carnival
REFRESH-INTERVAL;VALUE=DURATION:PT1H
X-Robots-Tag:noindex
X-PUBLISHED-TTL:PT1H
BEGIN:VTIMEZONE
TZID:America/Chicago
BEGIN:DAYLIGHT
TZOFFSETFROM:-0600
TZOFFSETTO:-0500
TZNAME:CDT
DTSTART:20250309T080000
END:DAYLIGHT
BEGIN:STANDARD
TZOFFSETFROM:-0500
TZOFFSETTO:-0600
TZNAME:CST
DTSTART:20251102T070000
END:STANDARD
END:VTIMEZONE
BEGIN:VEVENT
DTSTART;TZID=America/Chicago:20250130T160000
DTEND;TZID=America/Chicago:20250130T210000
DTSTAMP:20260425T165056
CREATED:20250126T143426Z
LAST-MODIFIED:20250127T213935Z
UID:5718-1738252800-1738270800@carnegiecarnival.org
SUMMARY:Brick Deli Spirit Night with Juju
DESCRIPTION:Join us for dinner at The Brick Deli and help us raise awareness and support for the Carnegie Visual Arts Center and free pet adoption events in our community. JuJu Bee is a 2 year old rescue Chiweenie and is running for Lady Barks a Lot this Carnegie Carnival season! Help her win the crown and help others
URL:https://carnegiecarnival.org/event/brick-deli-spirit-night-with-juju/
LOCATION:The Brick Deli\, 112 East Moulton Street\, Decatur\, AL\, 35601\, United States
CATEGORIES:Lady Barks-A-Lot
GEO:34.6041777;-86.9859025
X-APPLE-STRUCTURED-LOCATION;VALUE=URI;X-ADDRESS=The Brick Deli 112 East Moulton Street Decatur AL 35601 United States;X-APPLE-RADIUS=500;X-TITLE=112 East Moulton Street:geo:-86.9859025,34.6041777
END:VEVENT
BEGIN:VEVENT
DTSTART;TZID=America/Chicago:20250130T160000
DTEND;TZID=America/Chicago:20250130T223000
DTSTAMP:20260425T165056
CREATED:20250127T214454Z
LAST-MODIFIED:20250127T214454Z
UID:5782-1738252800-1738276200@carnegiecarnival.org
SUMMARY:Freight House Spirit Night with Prince
DESCRIPTION:
URL:https://carnegiecarnival.org/event/freight-house-spirit-night-with-prince/
LOCATION:The Freight House\, 200 Railroad Street\, Hartselle\, AL\, 35640\, United States
CATEGORIES:Sir Bow-Wow
END:VEVENT
BEGIN:VEVENT
DTSTART;TZID=America/Chicago:20250130T170000
DTEND;TZID=America/Chicago:20250130T200000
DTSTAMP:20260425T165056
CREATED:20250130T165941Z
LAST-MODIFIED:20250130T165941Z
UID:5807-1738256400-1738267200@carnegiecarnival.org
SUMMARY:El Portal Spirit Night with Ella
DESCRIPTION:Spicing up the night with great friends and even better food!
URL:https://carnegiecarnival.org/event/el-portal-spirit-night-with-ella/
LOCATION:El Portal #2\, 1315 US-31\, Hartselle\, AL\, 35640\, United States
CATEGORIES:Princess
END:VEVENT
BEGIN:VEVENT
DTSTART;TZID=America/Chicago:20250130T180000
DTEND;TZID=America/Chicago:20250130T200000
DTSTAMP:20260425T165056
CREATED:20250115T124643Z
LAST-MODIFIED:20250127T213033Z
UID:5648-1738260000-1738267200@carnegiecarnival.org
SUMMARY:Sing-O Bingo with Taylor
DESCRIPTION:Play bingo using your favorite songs!\nFree to play!
URL:https://carnegiecarnival.org/event/sing-o-bingo-with-taylor/
LOCATION:Cross-Eyed Owl Brewing Company\, 105 1st Avenue NE\, Decatur\, AL\, 35601\, United States
CATEGORIES:King
GEO:34.6043143;-86.9867305
X-APPLE-STRUCTURED-LOCATION;VALUE=URI;X-ADDRESS=Cross-Eyed Owl Brewing Company 105 1st Avenue NE Decatur AL 35601 United States;X-APPLE-RADIUS=500;X-TITLE=105 1st Avenue NE:geo:-86.9867305,34.6043143
END:VEVENT
END:VCALENDAR