BEGIN:VCALENDAR
VERSION:2.0
PRODID:-//Carnegie Carnival - ECPv6.2.9//NONSGML v1.0//EN
CALSCALE:GREGORIAN
METHOD:PUBLISH
X-WR-CALNAME:Carnegie Carnival
X-ORIGINAL-URL:https://carnegiecarnival.org
X-WR-CALDESC:Events for Carnegie Carnival
REFRESH-INTERVAL;VALUE=DURATION:PT1H
X-Robots-Tag:noindex
X-PUBLISHED-TTL:PT1H
BEGIN:VTIMEZONE
TZID:America/Chicago
BEGIN:DAYLIGHT
TZOFFSETFROM:-0600
TZOFFSETTO:-0500
TZNAME:CDT
DTSTART:20250309T080000
END:DAYLIGHT
BEGIN:STANDARD
TZOFFSETFROM:-0500
TZOFFSETTO:-0600
TZNAME:CST
DTSTART:20251102T070000
END:STANDARD
END:VTIMEZONE
BEGIN:VEVENT
DTSTART;TZID=America/Chicago:20250127T170000
DTEND;TZID=America/Chicago:20250127T200000
DTSTAMP:20260425T165054
CREATED:20250114T005220Z
LAST-MODIFIED:20250126T151555Z
UID:5613-1737997200-1738008000@carnegiecarnival.org
SUMMARY:Mellow Mushroom Spirit Night with Abbie
DESCRIPTION:Raffle items will be available
URL:https://carnegiecarnival.org/event/mellow-mushroom-spirit-night-with-abbie/
LOCATION:Mellow Mushroom\, 202 Moulton St E\, Decatur\, AL\, 35601\, United States
CATEGORIES:Princess
END:VEVENT
BEGIN:VEVENT
DTSTART;TZID=America/Chicago:20250127T170000
DTEND;TZID=America/Chicago:20250127T210000
DTSTAMP:20260425T165054
CREATED:20250119T184459Z
LAST-MODIFIED:20250121T133358Z
UID:5684-1737997200-1738011600@carnegiecarnival.org
SUMMARY:Moe’s BBQ Bingo & Spirit Night with Parker
DESCRIPTION:BINGO\, dinner\, and giving back to your community…nothing better! A portion of your bill will be donated to CASA of North AL & the Carnegie Visual Arts Center!
URL:https://carnegiecarnival.org/event/moes-bbq-bingo-spirit-night-with-parker/
LOCATION:Moe’s BBQ Decatur\, Decatur\, AL\, 35601\, United States
CATEGORIES:Prince
END:VEVENT
END:VCALENDAR