BEGIN:VCALENDAR
VERSION:2.0
PRODID:-//Carnegie Carnival - ECPv6.2.9//NONSGML v1.0//EN
CALSCALE:GREGORIAN
METHOD:PUBLISH
X-ORIGINAL-URL:https://carnegiecarnival.org
X-WR-CALDESC:Events for Carnegie Carnival
REFRESH-INTERVAL;VALUE=DURATION:PT1H
X-Robots-Tag:noindex
X-PUBLISHED-TTL:PT1H
BEGIN:VTIMEZONE
TZID:America/Chicago
BEGIN:DAYLIGHT
TZOFFSETFROM:-0600
TZOFFSETTO:-0500
TZNAME:CDT
DTSTART:20250309T080000
END:DAYLIGHT
BEGIN:STANDARD
TZOFFSETFROM:-0500
TZOFFSETTO:-0600
TZNAME:CST
DTSTART:20251102T070000
END:STANDARD
END:VTIMEZONE
BEGIN:VEVENT
DTSTART;TZID=America/Chicago:20250126T140000
DTEND;TZID=America/Chicago:20250126T170000
DTSTAMP:20260425T183711
CREATED:20250107T012206Z
LAST-MODIFIED:20250109T011408Z
UID:5514-1737900000-1737910800@carnegiecarnival.org
SUMMARY:Pickleball Tournament with Harris
DESCRIPTION:Any age and any skill levels are welcome! Fundraiser for Harris Penley – CASA/Carnegie Prince \n$40 entry fee per team ($20 per person) \nVenmo @Melissa-Penley-1 & comment “pickleball” or cash/check payable to CASA or the Carnegie! \nSunday\, January 26\, 2:00 p.m. \nSign in at 1:30 \nCentral United Methodist Church- Indoor Gym
URL:https://carnegiecarnival.org/event/pickleball-tournament-with-harris/
LOCATION:Central United Methodist Church Indoor Facility\, 601 Jackson St SE\, Decatur\, 35601\, United States
CATEGORIES:Prince
END:VEVENT
BEGIN:VEVENT
DTSTART;TZID=America/Chicago:20250126T170000
DTEND;TZID=America/Chicago:20250126T190000
DTSTAMP:20260425T183711
CREATED:20250120T173537Z
LAST-MODIFIED:20250126T151018Z
UID:5694-1737910800-1737918000@carnegiecarnival.org
SUMMARY:Ghost Stories of the Princess & Mellow Mushroom Spirit Night with Nancy
DESCRIPTION:Come join us for dinner at Mellow Mushroom from 5pm till 7pm on Sunday\, January 26th and support Nancy Case for Carnegie Carnival Queen XIV!Be sure to check out all the amazing raffles while you’re there!\nAfter that join us to hear all about the ghosts that live in the Princess Theater with Pirate King Doug Maze!Tickets for this are $10 each and space is limited\, so be sure to get your ticket now!Send your money to:Venmo: @Nancy-Case-11PayPal: nmcase@aol.comBe sure to include your name and “Ghost Tour”
URL:https://carnegiecarnival.org/event/ghost-stories-of-the-princess-mellow-mushroom-spirit-night-with-nancy/
LOCATION:Mellow Mushroom\, 202 Moulton St E\, Decatur\, AL\, 35601\, United States
CATEGORIES:Queen
END:VEVENT
END:VCALENDAR