BEGIN:VCALENDAR
VERSION:2.0
PRODID:-//Carnegie Carnival - ECPv6.2.9//NONSGML v1.0//EN
CALSCALE:GREGORIAN
METHOD:PUBLISH
X-WR-CALNAME:Carnegie Carnival
X-ORIGINAL-URL:https://carnegiecarnival.org
X-WR-CALDESC:Events for Carnegie Carnival
REFRESH-INTERVAL;VALUE=DURATION:PT1H
X-Robots-Tag:noindex
X-PUBLISHED-TTL:PT1H
BEGIN:VTIMEZONE
TZID:America/Chicago
BEGIN:DAYLIGHT
TZOFFSETFROM:-0600
TZOFFSETTO:-0500
TZNAME:CDT
DTSTART:20250309T080000
END:DAYLIGHT
BEGIN:STANDARD
TZOFFSETFROM:-0500
TZOFFSETTO:-0600
TZNAME:CST
DTSTART:20251102T070000
END:STANDARD
END:VTIMEZONE
BEGIN:VEVENT
DTSTART;TZID=America/Chicago:20250113T170000
DTEND;TZID=America/Chicago:20250113T210000
DTSTAMP:20260425T183636
CREATED:20250112T231453Z
LAST-MODIFIED:20250112T231453Z
UID:5574-1736787600-1736802000@carnegiecarnival.org
SUMMARY:Alfonso's Spirit Night for Parker
DESCRIPTION:Join us for raffles\, pizza\, and fun! Proceeds benefit CASA and The Carnegie Visual Arts Center.
URL:https://carnegiecarnival.org/event/alfonsos-spirit-night-for-parker/
LOCATION:Alfonso’s\, 725 Beltline Rd SW Suite E\, Decatur\, AL\, 35603\, United States
CATEGORIES:Prince
END:VEVENT
END:VCALENDAR