BEGIN:VCALENDAR
VERSION:2.0
PRODID:-//Carnegie Carnival - ECPv6.2.9//NONSGML v1.0//EN
CALSCALE:GREGORIAN
METHOD:PUBLISH
X-ORIGINAL-URL:https://carnegiecarnival.org
X-WR-CALDESC:Events for Carnegie Carnival
REFRESH-INTERVAL;VALUE=DURATION:PT1H
X-Robots-Tag:noindex
X-PUBLISHED-TTL:PT1H
BEGIN:VTIMEZONE
TZID:America/Chicago
BEGIN:DAYLIGHT
TZOFFSETFROM:-0600
TZOFFSETTO:-0500
TZNAME:CDT
DTSTART:20220313T080000
END:DAYLIGHT
BEGIN:STANDARD
TZOFFSETFROM:-0500
TZOFFSETTO:-0600
TZNAME:CST
DTSTART:20221106T070000
END:STANDARD
END:VTIMEZONE
BEGIN:VEVENT
DTSTART;TZID=America/Chicago:20220220T130000
DTEND;TZID=America/Chicago:20220220T150000
DTSTAMP:20260420T031938
CREATED:20220116T024124Z
LAST-MODIFIED:20220116T024320Z
UID:3927-1645362000-1645369200@carnegiecarnival.org
SUMMARY:Owan Poovey: Cheer and Tumble Clinic with Princess Jane Hollis
DESCRIPTION:Come enjoy some fun with a princess on February 20th! Wear your princess attire and come tumble and cheer! Grades K-5 (1-3) grades 6-8 (3-5) \n$20 for 1 child\, $35 for 2 children (for more than two children please contact Rachel Poovey \n#pooveyforprince Venmo: Rachel-Poovey-1 to register\, cash\, or check\, PayPal!
URL:https://carnegiecarnival.org/event/owan-poovey-cheer-and-tumble-clinic-with-princess-jane-hollis/
LOCATION:Decatur\, AL\, 35601\, United States
CATEGORIES:Prince
ATTACH;FMTTYPE=image/jpeg:https://carnegiecarnival.org/wp-content/uploads/2018/01/event_tn_princess.jpg
END:VEVENT
BEGIN:VEVENT
DTSTART;TZID=America/Chicago:20220220T140000
DTEND;TZID=America/Chicago:20220220T160000
DTSTAMP:20260420T031938
CREATED:20220111T021727Z
LAST-MODIFIED:20220116T022651Z
UID:3796-1645365600-1645372800@carnegiecarnival.org
SUMMARY:Addie Lu Nails: Princess Painting\, Petit Fours and Punch
DESCRIPTION:Come paint a beautiful flower with Addie Lu and artist Amber Stuart at the Carnegie Visual Arts Center! Sunday\, February 20th from 2-4 pm. All supplies will be provided. $30 per child. Please Venmo Jeremy-Nails to secure your spot and put paint party on your payment! We are happy to take cash or check in person before the event. Please rsvp with your payment by February 13.
URL:https://carnegiecarnival.org/event/addie-lu-nails-paint-party/
LOCATION:Decatur\, AL\, 35601\, United States
CATEGORIES:Princess
ATTACH;FMTTYPE=image/jpeg:https://carnegiecarnival.org/wp-content/uploads/2018/01/event_tn_princess.jpg
END:VEVENT
BEGIN:VEVENT
DTSTART;TZID=America/Chicago:20220220T170000
DTEND;TZID=America/Chicago:20220220T190000
DTSTAMP:20260420T031938
CREATED:20220210T235716Z
LAST-MODIFIED:20220210T235716Z
UID:4069-1645376400-1645383600@carnegiecarnival.org
SUMMARY:Cailey Barbee: Kids Paint Class with Tiffany Brightwell
DESCRIPTION:Join us for a fun night painting at Carnegie Visual Arts Center to paint this super cute Easter bunny\, step-by-step\, to help Cailey Barbee in her running for Carnegie Princess. This class is for grades kindergarten to 6th!! We only have 20 spots available. To reserve your spot\, please send $30 to one of the following payment methods. Spots will need to be reserved by the 17th so that Tiffany is able to sketch out the painting for the kids.\nPlease wear clothes that you’re okay with getting messy.\nin payment notes: name & “bunny”\n• cashapp: $caileyforcarnegie\n• venmo: @caileyforcarnegie\n• message for cash pick-up\nI hope to see you there
URL:https://carnegiecarnival.org/event/cailey-barbee-kids-paint-class-with-tiffany-brightwell/
LOCATION:Carnegie Visual Arts Center\, 207 Church Street\, NE\, Decatur\, AL\, 35601\, United States
CATEGORIES:Princess
ATTACH;FMTTYPE=image/jpeg:https://carnegiecarnival.org/wp-content/uploads/2018/01/event_tn_princess.jpg
GEO:34.6116295;-86.9820525
X-APPLE-STRUCTURED-LOCATION;VALUE=URI;X-ADDRESS=Carnegie Visual Arts Center 207 Church Street NE Decatur AL 35601 United States;X-APPLE-RADIUS=500;X-TITLE=207 Church Street\, NE:geo:-86.9820525,34.6116295
END:VEVENT
END:VCALENDAR