BEGIN:VCALENDAR
VERSION:2.0
PRODID:-//Carnegie Carnival - ECPv6.2.9//NONSGML v1.0//EN
CALSCALE:GREGORIAN
METHOD:PUBLISH
X-ORIGINAL-URL:https://carnegiecarnival.org
X-WR-CALDESC:Events for Carnegie Carnival
REFRESH-INTERVAL;VALUE=DURATION:PT1H
X-Robots-Tag:noindex
X-PUBLISHED-TTL:PT1H
BEGIN:VTIMEZONE
TZID:America/Chicago
BEGIN:DAYLIGHT
TZOFFSETFROM:-0600
TZOFFSETTO:-0500
TZNAME:CDT
DTSTART:20220313T080000
END:DAYLIGHT
BEGIN:STANDARD
TZOFFSETFROM:-0500
TZOFFSETTO:-0600
TZNAME:CST
DTSTART:20221106T070000
END:STANDARD
END:VTIMEZONE
BEGIN:VEVENT
DTSTART;TZID=America/Chicago:20220219T070000
DTEND;TZID=America/Chicago:20220219T113000
DTSTAMP:20260420T031947
CREATED:20220211T000130Z
LAST-MODIFIED:20220211T000130Z
UID:4076-1645254000-1645270200@carnegiecarnival.org
SUMMARY:Reese Banks: President’s Day Weekend Pancake Breakfast
DESCRIPTION:Kick-off President’s Day Weekend with a hearty pancake breakfast!\nDoors will open at 7:00 am and close by 11:30 am.\n$5.00 advance tickets.\n$7.00 tickets at the door\nAll proceeds go to The Carnegie Visual Arts Center & CASA of North Alabama.\nWe plan to have new raffle & auction items!
URL:https://carnegiecarnival.org/event/reese-banks-presidents-day-weekend-pancake-breakfast/
LOCATION:Priceville Junior High School\, 317 AL-67\, Decatur\, AL\, 35603\, United States
CATEGORIES:Princess
ATTACH;FMTTYPE=image/jpeg:https://carnegiecarnival.org/wp-content/uploads/2018/01/event_tn_princess.jpg
END:VEVENT
BEGIN:VEVENT
DTSTART;TZID=America/Chicago:20220219T070000
DTEND;TZID=America/Chicago:20220219T113000
DTSTAMP:20260420T031947
CREATED:20220211T000254Z
LAST-MODIFIED:20220211T000254Z
UID:4078-1645254000-1645270200@carnegiecarnival.org
SUMMARY:Joey Lubisco: President’s Day Weekend Pancake Breakfast
DESCRIPTION:Kick-off President’s Day Weekend with a hearty pancake breakfast!\nDoors will open at 7:00 am and close by 11:30 am.\n$5.00 advance tickets\n$7.00 tickets at the door\nAll proceeds go to The Carnegie Visual Arts Center & CASA of North Alabama.\nWe plan to have new raffle & auction items!
URL:https://carnegiecarnival.org/event/joey-lubisco-presidents-day-weekend-pancake-breakfast/
LOCATION:Priceville Junior High School\, 317 AL-67\, Decatur\, AL\, 35603\, United States
CATEGORIES:Prince
ATTACH;FMTTYPE=image/jpeg:https://carnegiecarnival.org/wp-content/uploads/2018/01/event_tn_prince.jpg
END:VEVENT
BEGIN:VEVENT
DTSTART;TZID=America/Chicago:20220219T130000
DTEND;TZID=America/Chicago:20220219T170000
DTSTAMP:20260420T031947
CREATED:20220210T234359Z
LAST-MODIFIED:20220210T234541Z
UID:4050-1645275600-1645290000@carnegiecarnival.org
SUMMARY:Addie Lu Nails: Clean Up Decatur
DESCRIPTION:Help us clean up the little around our city. Locations will be shared as soon as they are finalized. 3M will help us support CASA and the CARNEGIE if we will help clean up our city! A WIN for EVERYONE!!\nSaturday 2/19 1-5 and Sunday 2/20 1-5. Even 1 hour of your time helps our city and it’s causes!
URL:https://carnegiecarnival.org/event/addie-lu-nails-clean-up-with-decatur/2022-02-19/
LOCATION:Decatur\, AL\, 35601\, United States
CATEGORIES:Princess
ATTACH;FMTTYPE=image/jpeg:https://carnegiecarnival.org/wp-content/uploads/2018/01/event_tn_princess.jpg
END:VEVENT
BEGIN:VEVENT
DTSTART;TZID=America/Chicago:20220219T130000
DTEND;TZID=America/Chicago:20220219T170000
DTSTAMP:20260420T031947
CREATED:20220210T234519Z
LAST-MODIFIED:20220210T234519Z
UID:4054-1645275600-1645290000@carnegiecarnival.org
SUMMARY:Owan Poovey: Clean Up Decatur
DESCRIPTION:Help us clean up the little around our city. Locations will be shared as soon as they are finalized. 3M will help us support CASA and the CARNEGIE if we will help clean up our city! A WIN for EVERYONE!!\nSaturday 2/19 1-5 and Sunday 2/20 1-5. Even 1 hour of your time helps our city and it’s causes!
URL:https://carnegiecarnival.org/event/owan-poovey-clean-up-decatur/2022-02-19/
LOCATION:Decatur\, AL\, 35601\, United States
CATEGORIES:Prince
ATTACH;FMTTYPE=image/jpeg:https://carnegiecarnival.org/wp-content/uploads/2018/01/event_tn_prince.jpg
END:VEVENT
BEGIN:VEVENT
DTSTART;TZID=America/Chicago:20220219T170000
DTEND;TZID=America/Chicago:20220219T210000
DTSTAMP:20260420T031947
CREATED:20220210T235550Z
LAST-MODIFIED:20220210T235550Z
UID:4066-1645290000-1645304400@carnegiecarnival.org
SUMMARY:Sugar: Paw Print Pub Crawl
DESCRIPTION:Come support Sugar for Lady Barks A Lot for Decatur’s first annual Paw Print Pub Crawl! $15 for your punchcard with 8 destinations in our beautiful downtown. Starting at Simp McGhee’s and ending at the Cross-Eyed Owl\, participants will go to each destination\, order a drink or food\, get your card stamped and head to the next spot! The cards will be collected at the last stop and a grand prize drawing for an amazing basket will occur at 9:00 PM. Trust me\, you do not want to miss a chance at this basket! Pictures to come soon! Please come out\, have fun\, support our local restaurants/pubs and Sugar for Lady Barks A Lot!
URL:https://carnegiecarnival.org/event/sugar-paw-print-pub-crawl/
LOCATION:Downtown Decatur\, Decatur\, AL\, 35601\, United States
CATEGORIES:Lady Barks-A-Lot
END:VEVENT
BEGIN:VEVENT
DTSTART;TZID=America/Chicago:20220219T190000
DTEND;TZID=America/Chicago:20220219T220000
DTSTAMP:20260420T031947
CREATED:20220130T161941Z
LAST-MODIFIED:20220130T161941Z
UID:3993-1645297200-1645308000@carnegiecarnival.org
SUMMARY:Rachel Howard: Crewe Lip Sync Battle
DESCRIPTION:This is a night you do not want to miss!\nCome out and watch the Crewes compete for this year’s trophy. A silent auction will be going on while everyone is singing their hearts out. It is going to be SO MUCH FUN!! The votes come from donations during each performance\, so come out and vote for your favorite crewe! A portion of food sales and all tips for the crewes will go to the Carnegie through my campaign for Carnegie Queen.
URL:https://carnegiecarnival.org/event/rachel-howard-crewe-lip-sync-battle/
LOCATION:The Brick Deli\, 112 East Moulton Street\, Decatur\, AL\, 35601\, United States
CATEGORIES:Queen
ATTACH;FMTTYPE=image/jpeg:https://carnegiecarnival.org/wp-content/uploads/2018/01/event_tn_queen.jpg
GEO:34.6041777;-86.9859025
X-APPLE-STRUCTURED-LOCATION;VALUE=URI;X-ADDRESS=The Brick Deli 112 East Moulton Street Decatur AL 35601 United States;X-APPLE-RADIUS=500;X-TITLE=112 East Moulton Street:geo:-86.9859025,34.6041777
END:VEVENT
END:VCALENDAR