BEGIN:VCALENDAR
VERSION:2.0
PRODID:-//Carnegie Carnival - ECPv6.2.9//NONSGML v1.0//EN
CALSCALE:GREGORIAN
METHOD:PUBLISH
X-ORIGINAL-URL:https://carnegiecarnival.org
X-WR-CALDESC:Events for Carnegie Carnival
REFRESH-INTERVAL;VALUE=DURATION:PT1H
X-Robots-Tag:noindex
X-PUBLISHED-TTL:PT1H
BEGIN:VTIMEZONE
TZID:America/Chicago
BEGIN:DAYLIGHT
TZOFFSETFROM:-0600
TZOFFSETTO:-0500
TZNAME:CDT
DTSTART:20220313T080000
END:DAYLIGHT
BEGIN:STANDARD
TZOFFSETFROM:-0500
TZOFFSETTO:-0600
TZNAME:CST
DTSTART:20221106T070000
END:STANDARD
END:VTIMEZONE
BEGIN:VEVENT
DTSTART;TZID=America/Chicago:20220218T170000
DTEND;TZID=America/Chicago:20220218T210000
DTSTAMP:20260420T031946
CREATED:20220210T235846Z
LAST-MODIFIED:20220210T235846Z
UID:4071-1645203600-1645218000@carnegiecarnival.org
SUMMARY:Joey Lubisco: Spirited Art ‘Bring Your Own Bible’ Paint Class
DESCRIPTION:Join us for an evening of ‘Spirited Art’ on Friday\, February 18 from 5-9:00 PM at Cave Springs Baptist Church\nIt is a BYOB event!\nBring Your Own Bible!\nA talented instructor will help you personalize the front and back covers of your Bible with your very own design and paint selections.\nUsed Bibles may be available at local thrift stores if you don’t want to bring your primary Bible.\nClass fee is $30.00.\nPayments and registration can be made:\nPayPal.Me/helpingcasatogether\nVenmo @helpingcasatogether\n(Be sure to leave a comment for ‘Spirited Art’ paint class)
URL:https://carnegiecarnival.org/event/joey-lubisco-spirited-art-bring-your-own-bible-paint-class/
LOCATION:Cave Springs Baptist Church\, Decatur\, AL\, 35601\, United States
CATEGORIES:Prince
ATTACH;FMTTYPE=image/jpeg:https://carnegiecarnival.org/wp-content/uploads/2018/01/event_tn_prince.jpg
END:VEVENT
BEGIN:VEVENT
DTSTART;TZID=America/Chicago:20220218T170000
DTEND;TZID=America/Chicago:20220218T210000
DTSTAMP:20260420T031946
CREATED:20220210T235948Z
LAST-MODIFIED:20220210T235948Z
UID:4074-1645203600-1645218000@carnegiecarnival.org
SUMMARY:Reese Banks: Spirited Art ‘Bring Your Own Bible’ Paint Class
DESCRIPTION:Join us for an evening of ‘Spirited Art’ on Friday\, February 18 from 5-9:00 PM at Cave Springs Baptist Church\nIt is a BYOB event!\nBring Your Own Bible!\nA talented instructor will help you personalize the front and back covers of your Bible with your very own design and paint selections.\nUsed Bibles may be available at local thrift stores if you don’t want to bring your primary Bible.\nClass fee is $30.00.\nPayments and registration can be made:\nPayPal.Me/helpingcasatogether\nVenmo @helpingcasatogether\n(Be sure to leave a comment for ‘Spirited Art’ paint class)
URL:https://carnegiecarnival.org/event/reese-banks-spirited-art-bring-your-own-bible-paint-class/
LOCATION:Cave Springs Baptist Church\, Decatur\, AL\, 35601\, United States
CATEGORIES:Princess
ATTACH;FMTTYPE=image/jpeg:https://carnegiecarnival.org/wp-content/uploads/2018/01/event_tn_princess.jpg
END:VEVENT
BEGIN:VEVENT
DTSTART;TZID=America/Chicago:20220218T180000
DTEND;TZID=America/Chicago:20220218T200000
DTSTAMP:20260420T031946
CREATED:20220111T022221Z
LAST-MODIFIED:20220130T164147Z
UID:3799-1645207200-1645214400@carnegiecarnival.org
SUMMARY:Sugar: Strut your Paws
DESCRIPTION:Jean-Claude and Sugar want to know who thinks their dog has what it takes to walk the “cat walk”?! Let them come strut their stuff at a doggy fashion show at the beautiful Carnegie Art Center! 1st\, 2nd\, and 3rd prizes will be awarded along with a few bonus categories! Raffle items will be available to enter for\, we will have a fun DJ\, and a cash bar! $20 to enter your dog and $5 for entry with no pet entry. Registration starts at 6 and the show will begin at 6:30!
URL:https://carnegiecarnival.org/event/sugar-doggy-fashion-show/
LOCATION:Carnegie Visual Arts Center\, 207 Church Street\, NE\, Decatur\, AL\, 35601\, United States
CATEGORIES:Lady Barks-A-Lot
GEO:34.6116295;-86.9820525
X-APPLE-STRUCTURED-LOCATION;VALUE=URI;X-ADDRESS=Carnegie Visual Arts Center 207 Church Street NE Decatur AL 35601 United States;X-APPLE-RADIUS=500;X-TITLE=207 Church Street\, NE:geo:-86.9820525,34.6116295
END:VEVENT
BEGIN:VEVENT
DTSTART;TZID=America/Chicago:20220218T180000
DTEND;TZID=America/Chicago:20220218T200000
DTSTAMP:20260420T031946
CREATED:20220130T164140Z
LAST-MODIFIED:20220130T164140Z
UID:4002-1645207200-1645214400@carnegiecarnival.org
SUMMARY:Jean Claude: Strut Your Paws
DESCRIPTION:Jean-Claude and Sugar want to know who thinks their dog has what it takes to walk the “cat walk”?! Let them come strut their stuff at a doggy fashion show at the beautiful Carnegie Art Center! 1st\, 2nd\, and 3rd prizes will be awarded along with a few bonus categories! Raffle items will be available to enter for\, we will have a fun DJ\, and a cash bar! $20 to enter your dog and $5 for entry with no pet entry. Registration starts at 6 and the show will begin at 6:30!
URL:https://carnegiecarnival.org/event/jean-claude-strut-your-paws/
LOCATION:Carnegie Visual Arts Center\, 207 Church Street\, NE\, Decatur\, AL\, 35601\, United States
CATEGORIES:Sir Bow-Wow
GEO:34.6116295;-86.9820525
X-APPLE-STRUCTURED-LOCATION;VALUE=URI;X-ADDRESS=Carnegie Visual Arts Center 207 Church Street NE Decatur AL 35601 United States;X-APPLE-RADIUS=500;X-TITLE=207 Church Street\, NE:geo:-86.9820525,34.6116295
END:VEVENT
END:VCALENDAR