BEGIN:VCALENDAR
VERSION:2.0
PRODID:-//Carnegie Carnival - ECPv6.2.9//NONSGML v1.0//EN
CALSCALE:GREGORIAN
METHOD:PUBLISH
X-WR-CALNAME:Carnegie Carnival
X-ORIGINAL-URL:https://carnegiecarnival.org
X-WR-CALDESC:Events for Carnegie Carnival
REFRESH-INTERVAL;VALUE=DURATION:PT1H
X-Robots-Tag:noindex
X-PUBLISHED-TTL:PT1H
BEGIN:VTIMEZONE
TZID:America/Chicago
BEGIN:DAYLIGHT
TZOFFSETFROM:-0600
TZOFFSETTO:-0500
TZNAME:CDT
DTSTART:20220313T080000
END:DAYLIGHT
BEGIN:STANDARD
TZOFFSETFROM:-0500
TZOFFSETTO:-0600
TZNAME:CST
DTSTART:20221106T070000
END:STANDARD
END:VTIMEZONE
BEGIN:VEVENT
DTSTART;VALUE=DATE:20220215
DTEND;VALUE=DATE:20220216
DTSTAMP:20260420T031727
CREATED:20220121T000822Z
LAST-MODIFIED:20220121T000937Z
UID:3949-1644883200-1644969599@carnegiecarnival.org
SUMMARY:Reese Banks: Spirit Day at Ay Chihuahua Mexican Restaurant
DESCRIPTION:All Day Spirit Event for Joey Lubisco and Reese Banks (PHS Carnegie Prince & Princess Candidates).\n10% of sales will benefit CASA of North AL & Carnegie Visual Arts Center\nJoey & Reese will be there from 5:00-9:00 PM with Raffle and Auction Items.
URL:https://carnegiecarnival.org/event/reese-banks-spirit-day-at-ay-chihuahua-mexican-restaurant/
LOCATION:Ay Chihuahua\, 620 AL-67\, Priceville\, AL\, 35603\, United States
CATEGORIES:Prince,Princess
ATTACH;FMTTYPE=image/jpeg:https://carnegiecarnival.org/wp-content/uploads/2018/01/event_tn_princess.jpg
END:VEVENT
BEGIN:VEVENT
DTSTART;VALUE=DATE:20220215
DTEND;VALUE=DATE:20220216
DTSTAMP:20260420T031727
CREATED:20220121T001043Z
LAST-MODIFIED:20220121T001043Z
UID:3951-1644883200-1644969599@carnegiecarnival.org
SUMMARY:Joey Lubisco: Spirit Day at Ay Chihuahua Mexican Restaurant
DESCRIPTION:All Day Spirit Event for Joey Lubisco and Reese Banks (PHS Carnegie Prince & Princess Candidates).\n10% of sales will benefit CASA of North AL & Carnegie Visual Arts Center\nJoey & Reese will be there from 5:00-9:00 PM with Raffle and Auction Items.
URL:https://carnegiecarnival.org/event/joey-lubisco-spirit-day-at-ay-chihuahua-mexican-restaurant/
LOCATION:Ay Chihuahua\, 620 AL-67\, Priceville\, AL\, 35603\, United States
CATEGORIES:Prince,Princess
ATTACH;FMTTYPE=image/jpeg:https://carnegiecarnival.org/wp-content/uploads/2018/01/event_tn_prince.jpg
END:VEVENT
BEGIN:VEVENT
DTSTART;TZID=America/Chicago:20220215T180000
DTEND;TZID=America/Chicago:20220215T210000
DTSTAMP:20260420T031727
CREATED:20220110T022437Z
LAST-MODIFIED:20220113T235153Z
UID:3717-1644948000-1644958800@carnegiecarnival.org
SUMMARY:Marley Froscello: Paint Night
DESCRIPTION:Join us for an evening among friends at Carnegie Visual Arts Center and paint a beautiful 12×16 Italian door scene all while raising money for the Carnegie and CASA of North Alabama. Please submit your $60 registration fee via PayPal to marleyforprincess@gmail.com. Space is limited so get your girlfriends together and get registered. A cash bar will be available!
URL:https://carnegiecarnival.org/event/marley-froscello-paint-night/
LOCATION:Carnegie Visual Arts Center\, 207 Church Street\, NE\, Decatur\, AL\, 35601\, United States
CATEGORIES:Princess
ATTACH;FMTTYPE=image/jpeg:https://carnegiecarnival.org/wp-content/uploads/2018/01/event_tn_princess.jpg
GEO:34.6116295;-86.9820525
X-APPLE-STRUCTURED-LOCATION;VALUE=URI;X-ADDRESS=Carnegie Visual Arts Center 207 Church Street NE Decatur AL 35601 United States;X-APPLE-RADIUS=500;X-TITLE=207 Church Street\, NE:geo:-86.9820525,34.6116295
END:VEVENT
END:VCALENDAR