BEGIN:VCALENDAR
VERSION:2.0
PRODID:-//Carnegie Carnival - ECPv6.2.9//NONSGML v1.0//EN
CALSCALE:GREGORIAN
METHOD:PUBLISH
X-ORIGINAL-URL:https://carnegiecarnival.org
X-WR-CALDESC:Events for Carnegie Carnival
REFRESH-INTERVAL;VALUE=DURATION:PT1H
X-Robots-Tag:noindex
X-PUBLISHED-TTL:PT1H
BEGIN:VTIMEZONE
TZID:America/Chicago
BEGIN:DAYLIGHT
TZOFFSETFROM:-0600
TZOFFSETTO:-0500
TZNAME:CDT
DTSTART:20220313T080000
END:DAYLIGHT
BEGIN:STANDARD
TZOFFSETFROM:-0500
TZOFFSETTO:-0600
TZNAME:CST
DTSTART:20221106T070000
END:STANDARD
END:VTIMEZONE
BEGIN:VEVENT
DTSTART;TZID=America/Chicago:20220201T090000
DTEND;TZID=America/Chicago:20220214T140000
DTSTAMP:20260420T031946
CREATED:20220131T043352Z
LAST-MODIFIED:20220131T043352Z
UID:4025-1643706000-1644847200@carnegiecarnival.org
SUMMARY:Ginger Vandiver: Valentine's Baskets
DESCRIPTION:No need to run around to find that perfect gift for Valentine’s Day. We will make to order baskets that you can pick up or have delivered for an extra cost.\nEach basket will include:\n*1 Bottle of Wine (your choice of Red\, White\, or Moscato) OR 2 Bottles of Sparkling Juice\n*2 wine glasses\n*Chocolates\n*A surprise or two\n$30 for the basket (baskets can be picked up at The Red Door Salon by appointment)\nDelivery +$10 before Feb 14th\, +$20 Feb 14th\nPlease message Ginger Vandiver to preorder and payment info.
URL:https://carnegiecarnival.org/event/ginger-vandiver-valentines-baskets-2/
LOCATION:Decatur\, AL\, 35601\, United States
CATEGORIES:Queen
END:VEVENT
BEGIN:VEVENT
DTSTART;TZID=America/Chicago:20220212T090000
DTEND;TZID=America/Chicago:20220212T150000
DTSTAMP:20260420T031946
CREATED:20220114T002350Z
LAST-MODIFIED:20220114T003029Z
UID:3903-1644656400-1644678000@carnegiecarnival.org
SUMMARY:Addie Lu Nails: Skeet Shoot
DESCRIPTION:Join us for a Charity Skeet Shoot and Bar-B-Que Lunch to Support the Carnegie Visual Arts Center\, Addie Lu Nails’ Princess Run and Owan Poovey’s Prince Run for Carnegie Carnival 2022!!\n\nThis event is limited to no more than 10 teams/40 total shooters.\n$100.00 Donation per shooter. Special Raffles and Prizes will be held at the event.\nPut together your team of 4 shooters\, or join as an individual shooter to be paired with others.\nEach team will shoot 100 Targets\, plus warm-up targets.\nTrophies will be awarded to the top three teams on the Lewis-Class System Scoring.\n\nWhitt’s Bar-B-Que will be served at noon. If you don’t want to shoot\, register to join us for lunch only ($15 donation) to enjoy Whitt’s award-winning bar-b-que and support your shooters and the CVAC.\n\nMake your checks payable to CVAC and mail to Attn: Phil D. Mitchell\, PO Box 2688\, Decatur\, Al 35602. Contact Phil at pmitchell@harriscaddell.com or 256-566-3854 to register your team and obtain your shooting time.
URL:https://carnegiecarnival.org/event/addie-lu-nails-skeet-shoot/
LOCATION:The Petty Farm\, 444 Kenny Clay Rd\, Somerville\, AL\, 35670\, United States
CATEGORIES:Princess
ATTACH;FMTTYPE=image/jpeg:https://carnegiecarnival.org/wp-content/uploads/2018/01/event_tn_princess.jpg
END:VEVENT
BEGIN:VEVENT
DTSTART;TZID=America/Chicago:20220212T090000
DTEND;TZID=America/Chicago:20220212T150000
DTSTAMP:20260420T031946
CREATED:20220114T002626Z
LAST-MODIFIED:20220114T003021Z
UID:3906-1644656400-1644678000@carnegiecarnival.org
SUMMARY:Owan Poovey: Skeet Shoot
DESCRIPTION:Join us for a Charity Skeet Shoot and Bar-B-Que Lunch to Support the Carnegie Visual Arts Center\, Addie Lu Nails’ Princess Run and Owan Poovey’s Prince Run for Carnegie Carnival 2022!!\n\nThis event is limited to no more than 10 teams/40 total shooters.\n$100.00 Donation per shooter. Special Raffles and Prizes will be held at the event.\nPut together your team of 4 shooters\, or join as an individual shooter to be paired with others.\nEach team will shoot 100 Targets\, plus warm-up targets.\nTrophies will be awarded to the top three teams on the Lewis-Class System Scoring.\n\nWhitt’s Bar-B-Que will be served at noon. If you don’t want to shoot\, register to join us for lunch only ($15 donation) to enjoy Whitt’s award winning bar-b-que and support your shooters and the CVAC.\n\nMake your checks payable to CVAC and mail to Attn: Phil D. Mitchell\, PO Box 2688\, Decatur\, Al 35602. Contact Phil at pmitchell@harriscaddell.com or 256-566-3854 to register your team and obtain your shooting time.
URL:https://carnegiecarnival.org/event/owan-poovey-skeet-shoot/
LOCATION:The Petty Farm\, 444 Kenny Clay Rd\, Somerville\, AL\, 35670\, United States
CATEGORIES:Prince
ATTACH;FMTTYPE=image/jpeg:https://carnegiecarnival.org/wp-content/uploads/2018/01/event_tn_prince.jpg
END:VEVENT
BEGIN:VEVENT
DTSTART;TZID=America/Chicago:20220212T110000
DTEND;TZID=America/Chicago:20220212T150000
DTSTAMP:20260420T031946
CREATED:20220130T155529Z
LAST-MODIFIED:20220130T155529Z
UID:3981-1644663600-1644678000@carnegiecarnival.org
SUMMARY:John Allison: Spirit Day at the Brick
DESCRIPTION:Come join us for lunch at The Brick! A portion of sales will go to benefit John Allison for Carnegie King. While you’re there take a look at the amazing raffle items!
URL:https://carnegiecarnival.org/event/john-allison-spirit-day-at-the-brick/
LOCATION:The Brick Deli\, 112 East Moulton Street\, Decatur\, AL\, 35601\, United States
CATEGORIES:King
ATTACH;FMTTYPE=image/jpeg:https://carnegiecarnival.org/wp-content/uploads/2018/01/event_tn_king.jpg
GEO:34.6041777;-86.9859025
X-APPLE-STRUCTURED-LOCATION;VALUE=URI;X-ADDRESS=The Brick Deli 112 East Moulton Street Decatur AL 35601 United States;X-APPLE-RADIUS=500;X-TITLE=112 East Moulton Street:geo:-86.9859025,34.6041777
END:VEVENT
BEGIN:VEVENT
DTSTART;TZID=America/Chicago:20220212T110000
DTEND;TZID=America/Chicago:20220212T160000
DTSTAMP:20260420T031946
CREATED:20220130T154504Z
LAST-MODIFIED:20220130T154504Z
UID:3973-1644663600-1644681600@carnegiecarnival.org
SUMMARY:Marley Froscello: Prom Dress Consignment Day
DESCRIPTION:This is a one-day event where you can buy and sell prom gowns. Space to try on will be available. We will be accepting full donations or will split the profit with consignors 50/50 with all of our portion being donated to Carnegie Visual Arts Center & CASA of North Alabama. Forms of payment accepted at the sale will be cash\, PayPal\, & Venmo. No credit or debit cards can be run at the event. Please message to coordinate the drop off of your gown you wish to sell or with any questions. We hope to raise money for these wonderful local charities and help young women afford beautiful prom gowns. We will accept gowns 3 years old or less unless in pristine condition and style not outdated. All sizes are welcome. Young girls deserve to feel beautiful for their proms and every day! Let’s help out together!
URL:https://carnegiecarnival.org/event/marley-froscello-prom-dress-consignment-day/
LOCATION:Carnegie Visual Arts Center\, 207 Church Street\, NE\, Decatur\, AL\, 35601\, United States
CATEGORIES:Princess
ATTACH;FMTTYPE=image/jpeg:https://carnegiecarnival.org/wp-content/uploads/2018/01/event_tn_princess.jpg
GEO:34.6116295;-86.9820525
X-APPLE-STRUCTURED-LOCATION;VALUE=URI;X-ADDRESS=Carnegie Visual Arts Center 207 Church Street NE Decatur AL 35601 United States;X-APPLE-RADIUS=500;X-TITLE=207 Church Street\, NE:geo:-86.9820525,34.6116295
END:VEVENT
BEGIN:VEVENT
DTSTART;TZID=America/Chicago:20220212T160000
DTEND;TZID=America/Chicago:20220212T220000
DTSTAMP:20260420T031946
CREATED:20220210T234016Z
LAST-MODIFIED:20220210T234016Z
UID:4046-1644681600-1644703200@carnegiecarnival.org
SUMMARY:Cade Alexander: Axes and Roses
DESCRIPTION:Join Cade for a date night out to celebrate Valentine’s Day and support a good cause! A portion of your night will go to CASA of North Alabama and Carnegie Visual Arts.\nWe will have roses for sale for your Valentine!\nSingle this Valentine’s Day? Bring a group of friends\, relieve some stress\, and have some fun! You could even imagine your ex while throwing an axe!
URL:https://carnegiecarnival.org/event/cade-alexander-axes-and-roses/
CATEGORIES:Prince
ATTACH;FMTTYPE=image/jpeg:https://carnegiecarnival.org/wp-content/uploads/2018/01/event_tn_prince.jpg
END:VEVENT
END:VCALENDAR