BEGIN:VCALENDAR
VERSION:2.0
PRODID:-//Carnegie Carnival - ECPv6.2.9//NONSGML v1.0//EN
CALSCALE:GREGORIAN
METHOD:PUBLISH
X-ORIGINAL-URL:https://carnegiecarnival.org
X-WR-CALDESC:Events for Carnegie Carnival
REFRESH-INTERVAL;VALUE=DURATION:PT1H
X-Robots-Tag:noindex
X-PUBLISHED-TTL:PT1H
BEGIN:VTIMEZONE
TZID:America/Chicago
BEGIN:DAYLIGHT
TZOFFSETFROM:-0600
TZOFFSETTO:-0500
TZNAME:CDT
DTSTART:20220313T080000
END:DAYLIGHT
BEGIN:STANDARD
TZOFFSETFROM:-0500
TZOFFSETTO:-0600
TZNAME:CST
DTSTART:20221106T070000
END:STANDARD
END:VTIMEZONE
BEGIN:VEVENT
DTSTART;TZID=America/Chicago:20220201T090000
DTEND;TZID=America/Chicago:20220214T140000
DTSTAMP:20260420T031939
CREATED:20220131T043352Z
LAST-MODIFIED:20220131T043352Z
UID:4025-1643706000-1644847200@carnegiecarnival.org
SUMMARY:Ginger Vandiver: Valentine's Baskets
DESCRIPTION:No need to run around to find that perfect gift for Valentine’s Day. We will make to order baskets that you can pick up or have delivered for an extra cost.\nEach basket will include:\n*1 Bottle of Wine (your choice of Red\, White\, or Moscato) OR 2 Bottles of Sparkling Juice\n*2 wine glasses\n*Chocolates\n*A surprise or two\n$30 for the basket (baskets can be picked up at The Red Door Salon by appointment)\nDelivery +$10 before Feb 14th\, +$20 Feb 14th\nPlease message Ginger Vandiver to preorder and payment info.
URL:https://carnegiecarnival.org/event/ginger-vandiver-valentines-baskets-2/
LOCATION:Decatur\, AL\, 35601\, United States
CATEGORIES:Queen
END:VEVENT
BEGIN:VEVENT
DTSTART;TZID=America/Chicago:20220204T150000
DTEND;TZID=America/Chicago:20220204T210000
DTSTAMP:20260420T031939
CREATED:20220202T032859Z
LAST-MODIFIED:20220204T000000Z
UID:4032-1643986800-1644008400@carnegiecarnival.org
SUMMARY:Cailey Barbee: Oliwia's Shaved Ice
DESCRIPTION:Oliwia’s offers all flavors of shaved ice & Blue Bell ice cream\, so bring your sweet tooth for an after-school treat or dessert after dinner. Tell them you are there for Cailey Barbee! We appreciate all the support and hope to see you there!!\nAll proceeds will be donated to CASA of North Alabama & Carnegie Visual Arts Center.
URL:https://carnegiecarnival.org/event/cailey-barbee-oliwias-shaved-ice/
LOCATION:Decatur\, AL\, 35601\, United States
CATEGORIES:Princess
ATTACH;FMTTYPE=image/jpeg:https://carnegiecarnival.org/wp-content/uploads/2018/01/event_tn_princess.jpg
END:VEVENT
BEGIN:VEVENT
DTSTART;TZID=America/Chicago:20220204T180000
DTEND;TZID=America/Chicago:20220204T200000
DTSTAMP:20260420T031939
CREATED:20220121T001726Z
LAST-MODIFIED:20220121T001726Z
UID:3953-1643997600-1644004800@carnegiecarnival.org
SUMMARY:Reese Banks: Ladies Night Out
DESCRIPTION:Ladies Night Out Painting with Tracy Roberts McCann\, Owner of The Studio on Bank\n\n$50.00 per person\nLimited Seating Available\nPre-register prior to February 1st:\nPayPal.Me/helpingcasatogether\nVenmo @helpingcasatogether\n*Cash bar will be available\n*Please arrived 15 minutes early to settle in and grab a cocktail\, if desired\, before class promptly starts at 6:00 pm.\n*No refunds\, rain checks\, or exchanges\nThe piece is titled “Angels Among Us” in honor of all our CASA volunteers. It is 14×6 acrylic on wood\, pre-traced\, and considered beginner friendly because it is loose\, flowing\, muddy.\nSo come out and enjoy an evening in support of PHS Carnegie Prince & Princess Candidates\, Joey Lubisco & Reese Banks.
URL:https://carnegiecarnival.org/event/reese-banks-ladies-night-out/
LOCATION:Carnegie Visual Arts Center\, 207 Church Street\, NE\, Decatur\, AL\, 35601\, United States
CATEGORIES:Prince,Princess
ATTACH;FMTTYPE=image/jpeg:https://carnegiecarnival.org/wp-content/uploads/2018/01/event_tn_princess.jpg
GEO:34.6116295;-86.9820525
X-APPLE-STRUCTURED-LOCATION;VALUE=URI;X-ADDRESS=Carnegie Visual Arts Center 207 Church Street NE Decatur AL 35601 United States;X-APPLE-RADIUS=500;X-TITLE=207 Church Street\, NE:geo:-86.9820525,34.6116295
END:VEVENT
BEGIN:VEVENT
DTSTART;TZID=America/Chicago:20220204T180000
DTEND;TZID=America/Chicago:20220204T200000
DTSTAMP:20260420T031939
CREATED:20220121T001731Z
LAST-MODIFIED:20220121T001731Z
UID:3954-1643997600-1644004800@carnegiecarnival.org
SUMMARY:Joey Lubisco: Ladies Night Out
DESCRIPTION:Ladies Night Out Painting with Tracy Roberts McCann\, Owner of The Studio on Bank\n\n$50.00 per person\nLimited Seating Available\nPre-register prior to February 1st:\nPayPal.Me/helpingcasatogether\nVenmo @helpingcasatogether\n*Cash bar will be available\n*Please arrived 15 minutes early to settle in and grab a cocktail\, if desired\, before class promptly starts at 6:00 pm.\n*No refunds\, rain checks\, or exchanges\nThe piece is titled “Angels Among Us” in honor of all our CASA volunteers. It is 14×6 acrylic on wood\, pre-traced\, and considered beginner friendly because it is loose\, flowing\, muddy.\nSo come out and enjoy an evening in support of PHS Carnegie Prince & Princess Candidates\, Joey Lubisco & Reese Banks.
URL:https://carnegiecarnival.org/event/joey-lubisco-ladies-night-out/
LOCATION:Carnegie Visual Arts Center\, 207 Church Street\, NE\, Decatur\, AL\, 35601\, United States
CATEGORIES:Prince,Princess
ATTACH;FMTTYPE=image/jpeg:https://carnegiecarnival.org/wp-content/uploads/2018/01/event_tn_prince.jpg
GEO:34.6116295;-86.9820525
X-APPLE-STRUCTURED-LOCATION;VALUE=URI;X-ADDRESS=Carnegie Visual Arts Center 207 Church Street NE Decatur AL 35601 United States;X-APPLE-RADIUS=500;X-TITLE=207 Church Street\, NE:geo:-86.9820525,34.6116295
END:VEVENT
END:VCALENDAR