BEGIN:VCALENDAR
VERSION:2.0
PRODID:-//Carnegie Carnival - ECPv6.2.9//NONSGML v1.0//EN
CALSCALE:GREGORIAN
METHOD:PUBLISH
X-ORIGINAL-URL:https://carnegiecarnival.org
X-WR-CALDESC:Events for Carnegie Carnival
REFRESH-INTERVAL;VALUE=DURATION:PT1H
X-Robots-Tag:noindex
X-PUBLISHED-TTL:PT1H
BEGIN:VTIMEZONE
TZID:America/Chicago
BEGIN:DAYLIGHT
TZOFFSETFROM:-0600
TZOFFSETTO:-0500
TZNAME:CDT
DTSTART:20220313T080000
END:DAYLIGHT
BEGIN:STANDARD
TZOFFSETFROM:-0500
TZOFFSETTO:-0600
TZNAME:CST
DTSTART:20221106T070000
END:STANDARD
END:VTIMEZONE
BEGIN:VEVENT
DTSTART;TZID=America/Chicago:20220201T090000
DTEND;TZID=America/Chicago:20220214T140000
DTSTAMP:20260420T031938
CREATED:20220131T043352Z
LAST-MODIFIED:20220131T043352Z
UID:4025-1643706000-1644847200@carnegiecarnival.org
SUMMARY:Ginger Vandiver: Valentine's Baskets
DESCRIPTION:No need to run around to find that perfect gift for Valentine’s Day. We will make to order baskets that you can pick up or have delivered for an extra cost.\nEach basket will include:\n*1 Bottle of Wine (your choice of Red\, White\, or Moscato) OR 2 Bottles of Sparkling Juice\n*2 wine glasses\n*Chocolates\n*A surprise or two\n$30 for the basket (baskets can be picked up at The Red Door Salon by appointment)\nDelivery +$10 before Feb 14th\, +$20 Feb 14th\nPlease message Ginger Vandiver to preorder and payment info.
URL:https://carnegiecarnival.org/event/ginger-vandiver-valentines-baskets-2/
LOCATION:Decatur\, AL\, 35601\, United States
CATEGORIES:Queen
END:VEVENT
BEGIN:VEVENT
DTSTART;TZID=America/Chicago:20220202T180000
DTEND;TZID=America/Chicago:20220202T193000
DTSTAMP:20260420T031938
CREATED:20220131T042800Z
LAST-MODIFIED:20220131T042800Z
UID:4023-1643824800-1643830200@carnegiecarnival.org
SUMMARY:Spot/Roxy Hallmark: Cookie Decorating Class
DESCRIPTION:Learn a few tips and tricks and leave with my recipes! Most of all\, come prepared to have fun and support the Carnegie and their canine candidates ROXY AND SPOT HALLMARK for LADY BARKS A LOT & SIR BOW WOW. Limit 20. $35.oo – please VENMO Lindsey-Upton or PAYPAL decaturcookieco@gmail.com
URL:https://carnegiecarnival.org/event/spot-roxy-hallmark-cookie-decorating-class-2/
LOCATION:Carnegie Visual Arts Center\, 207 Church Street\, NE\, Decatur\, AL\, 35601\, United States
CATEGORIES:Lady Barks-A-Lot,Sir Bow-Wow
GEO:34.6116295;-86.9820525
X-APPLE-STRUCTURED-LOCATION;VALUE=URI;X-ADDRESS=Carnegie Visual Arts Center 207 Church Street NE Decatur AL 35601 United States;X-APPLE-RADIUS=500;X-TITLE=207 Church Street\, NE:geo:-86.9820525,34.6116295
END:VEVENT
END:VCALENDAR