BEGIN:VCALENDAR
VERSION:2.0
PRODID:-//Carnegie Carnival - ECPv6.2.9//NONSGML v1.0//EN
CALSCALE:GREGORIAN
METHOD:PUBLISH
X-WR-CALNAME:Carnegie Carnival
X-ORIGINAL-URL:https://carnegiecarnival.org
X-WR-CALDESC:Events for Carnegie Carnival
REFRESH-INTERVAL;VALUE=DURATION:PT1H
X-Robots-Tag:noindex
X-PUBLISHED-TTL:PT1H
BEGIN:VTIMEZONE
TZID:America/Chicago
BEGIN:DAYLIGHT
TZOFFSETFROM:-0600
TZOFFSETTO:-0500
TZNAME:CDT
DTSTART:20220313T080000
END:DAYLIGHT
BEGIN:STANDARD
TZOFFSETFROM:-0500
TZOFFSETTO:-0600
TZNAME:CST
DTSTART:20221106T070000
END:STANDARD
END:VTIMEZONE
BEGIN:VEVENT
DTSTART;TZID=America/Chicago:20220131T170000
DTEND;TZID=America/Chicago:20220131T210000
DTSTAMP:20260420T031707
CREATED:20220110T021801Z
LAST-MODIFIED:20220111T010144Z
UID:3712-1643648400-1643662800@carnegiecarnival.org
SUMMARY:Owan Poovey: Axe For Others
DESCRIPTION:All you can throw\, family fun\, raffles\, door prizes\, food and drinks available. \nTicket: $30 for 1 & $50 per couple \nVenmo: @michael-poovey
URL:https://carnegiecarnival.org/event/owan-poovey-axe-for-others/
CATEGORIES:Prince
ATTACH;FMTTYPE=image/jpeg:https://carnegiecarnival.org/wp-content/uploads/2018/01/event_tn_prince.jpg
END:VEVENT
END:VCALENDAR