BEGIN:VCALENDAR
VERSION:2.0
PRODID:-//Carnegie Carnival - ECPv6.2.9//NONSGML v1.0//EN
CALSCALE:GREGORIAN
METHOD:PUBLISH
X-WR-CALNAME:Carnegie Carnival
X-ORIGINAL-URL:https://carnegiecarnival.org
X-WR-CALDESC:Events for Carnegie Carnival
REFRESH-INTERVAL;VALUE=DURATION:PT1H
X-Robots-Tag:noindex
X-PUBLISHED-TTL:PT1H
BEGIN:VTIMEZONE
TZID:America/Chicago
BEGIN:DAYLIGHT
TZOFFSETFROM:-0600
TZOFFSETTO:-0500
TZNAME:CDT
DTSTART:20220313T080000
END:DAYLIGHT
BEGIN:STANDARD
TZOFFSETFROM:-0500
TZOFFSETTO:-0600
TZNAME:CST
DTSTART:20221106T070000
END:STANDARD
END:VTIMEZONE
BEGIN:VEVENT
DTSTART;TZID=America/Chicago:20220111T080000
DTEND;TZID=America/Chicago:20220111T170000
DTSTAMP:20260420T042631
CREATED:20220112T004952Z
LAST-MODIFIED:20220112T005009Z
UID:3841-1641888000-1641920400@carnegiecarnival.org
SUMMARY:Brodie Morrow: Dinner & Silent Auction
DESCRIPTION:Carnegie Royalty Candidates Maggie Guyse & Brodie Morrow Presents Dinner & Silent Auction @ The Tabernacle Farm \nJoin us for a night at the beautiful Tabernacle Farm complete with dinner catered by Chef Jason Williams\, music\, guest speakers and incredible Silent Auction items such as….. a weekend getaway to a fabulous Lake House\, Custom Cornhole Boards\, Art\, Gift Certificates of all kind\, Lottery Tickets\, Botox\, just to name a few!! \n\nTickets to the event are $50/couple. Please RSVP no later than Friday\, January 21st.\n\n\n\n\n\n\nYou may purchase your ticket with cash or via Venmo @BrodieMaggieHHS\n\n\nSilent Auction Winners may pay for their items the night of the event via Cash\, Venmo or Check
URL:https://carnegiecarnival.org/event/brodie-morrow-dinner-silent-auction/
LOCATION:The Tabernacle Farm\, 1240 Tabernacle Road SE\, Hartselle\, AL\, 35640\, United States
CATEGORIES:Prince,Princess
ATTACH;FMTTYPE=image/jpeg:https://carnegiecarnival.org/wp-content/uploads/2018/01/event_tn_prince.jpg
END:VEVENT
END:VCALENDAR